BEGIN:VCALENDAR
VERSION:2.0
PRODID:-//Oradea - ECPv5.1.1//NONSGML v1.0//EN
CALSCALE:GREGORIAN
METHOD:PUBLISH
X-WR-CALNAME:Oradea
X-ORIGINAL-URL:https://ghidlocal.com/oradea
X-WR-CALDESC:Events for Oradea
BEGIN:VTIMEZONE
TZID:Europe/Bucharest
BEGIN:DAYLIGHT
TZOFFSETFROM:+0200
TZOFFSETTO:+0300
TZNAME:EEST
DTSTART:20190331T010000
END:DAYLIGHT
BEGIN:STANDARD
TZOFFSETFROM:+0300
TZOFFSETTO:+0200
TZNAME:EET
DTSTART:20191027T010000
END:STANDARD
END:VTIMEZONE
BEGIN:VEVENT
DTSTART;TZID=Europe/Bucharest:20190307T190000
DTEND;TZID=Europe/Bucharest:20190307T213000
DTSTAMP:20260420T143602
CREATED:20190303T235432Z
LAST-MODIFIED:20190304T001235Z
UID:24777-1551985200-1551994200@ghidlocal.com
SUMMARY:Spectacol Folcloric de 8 Martie
DESCRIPTION:Ansamblul Folcloric „Nuntașii Bihorului“ și Casa de Cultură a Sindicatelor din Oradea vă invită la un spectacol folcloric\, cu ocazia zilei de 8 Martie\, în care muzica autentică românească și dansurile populare vor înnobila venirea primăverii și omagierea iubirii! Cântec\, joc și voie bună în suflet de iubire! Vă așteptăm cu drag! \nhttps://www.facebook.com/events/295004151187446/ \n
URL:https://ghidlocal.com/oradea/eveniment/spectacol-folcloric-de-8-martie/
LOCATION:Casa de Cultura a Sindicatelor Oradea\, Casa de Cultura a Sindicatelor Oradea
CATEGORIES:Concerte
ATTACH;FMTTYPE=image/jpeg:https://cdn.cluj.com/ghidlocalcom/sites/2/2019/03/Spectacol-Folcloric-de-8-Martie-.jpg
END:VEVENT
END:VCALENDAR