BEGIN:VCALENDAR
VERSION:2.0
PRODID:-//Oradea - ECPv5.1.1//NONSGML v1.0//EN
CALSCALE:GREGORIAN
METHOD:PUBLISH
X-WR-CALNAME:Oradea
X-ORIGINAL-URL:https://ghidlocal.com/oradea
X-WR-CALDESC:Events for Oradea
BEGIN:VTIMEZONE
TZID:Europe/Bucharest
BEGIN:DAYLIGHT
TZOFFSETFROM:+0200
TZOFFSETTO:+0300
TZNAME:EEST
DTSTART:20180325T010000
END:DAYLIGHT
BEGIN:STANDARD
TZOFFSETFROM:+0300
TZOFFSETTO:+0200
TZNAME:EET
DTSTART:20181028T010000
END:STANDARD
END:VTIMEZONE
BEGIN:VEVENT
DTSTART;TZID=Europe/Bucharest:20180817T140000
DTEND;TZID=Europe/Bucharest:20180819T170000
DTSTAMP:20260422T232958
CREATED:20180322T094511Z
LAST-MODIFIED:20180712T094954Z
UID:21582-1534514400-1534698000@ghidlocal.com
SUMMARY:Smida Jazz Festival 2018
DESCRIPTION:Bilete Smida Jazz Festival 2018\nCu bucurie\, vă invităm la cea de-a treia ediție a Smida Jazz Festival\, un eveniment internațional open-air dedicat jazz-ului contemporan\, care va avea loc între 17 și 19 august\, chiar în inima Parcului Natural Apuseni\, mai exact în pitorescul sat Smida (Beliș\, Cluj). Acesta se găsește la aproape 90 de kilometri asfaltați de Cluj-Napoca. \nTraseul pe care vi-l recomandăm este\, pe direcția Cluj-Napoca – Oradea\, Huedin\, Răchițele\, Doda Pilii și Smida. Mai multe\, aici: http://www.smidajazz.ro/ro/info. \nÎn acest cadru natural feeric\, pe parcursul celor trei seri\, vom explora sunetele jazzistice emise de trei grupuri românești și șase străine. Iar în timpul zilei ne vom putea implica în diverse activități atât educative\, cât și recreative. \nVă așteptăm cu același entuziasm dinaintea primei ediții și\, până atunci\, stați pe aproape de pagina Smida Jazz Festival și cea dedicată evenimentului\, pentru a fi la curent cu noutățile. \nAșa a arătat și sunat ediția din 2017: http://bit.ly/2ARyrQO\nAici găsiți mai multe informații despre ce a fost: http://www.smidajazz.ro. \nBilete Smida Jazz Festival 2018 > Aici \nArtiștii care vor fi prezenți la cea de-a treia ediție Smida Jazz Festival:\nSpirit Cave (DK/NO)\nKimmo Pohjonen (FI)\nPortico Quartet (UK)\nSons of Kemet (UK)\nBarabás Lőrinc Quartet (HU)\nImmortal Onion (PL)\nKRiSPER (RO)\nPaperjam (RO)\nMuntet (RO). \n\n			\n				\n			\n		\n\nFoto: Smida Jazz Festival & Carmin Moldovan \n
URL:https://ghidlocal.com/oradea/eveniment/smida-jazz-festival-2018/
LOCATION:Smida Jazz Festival\, Cluj\, 407082\, România
CATEGORIES:Concerte,Festival
ATTACH;FMTTYPE=image/jpeg:https://cdn.cluj.com/ghidlocalcom/sites/2/2018/03/Smida-Jazz-Festival-2018-1.jpg
END:VEVENT
END:VCALENDAR