BEGIN:VCALENDAR
VERSION:2.0
PRODID:-//Oradea - ECPv5.1.1//NONSGML v1.0//EN
CALSCALE:GREGORIAN
METHOD:PUBLISH
X-WR-CALNAME:Oradea
X-ORIGINAL-URL:https://ghidlocal.com/oradea
X-WR-CALDESC:Events for Oradea
BEGIN:VTIMEZONE
TZID:Europe/Bucharest
BEGIN:DAYLIGHT
TZOFFSETFROM:+0200
TZOFFSETTO:+0300
TZNAME:EEST
DTSTART:20170326T010000
END:DAYLIGHT
BEGIN:STANDARD
TZOFFSETFROM:+0300
TZOFFSETTO:+0200
TZNAME:EET
DTSTART:20171029T010000
END:STANDARD
END:VTIMEZONE
BEGIN:VEVENT
DTSTART;TZID=Europe/Bucharest:20170903T160000
DTEND;TZID=Europe/Bucharest:20170903T190000
DTSTAMP:20260420T063752
CREATED:20170811T124205Z
LAST-MODIFIED:20170811T124205Z
UID:15342-1504454400-1504465200@ghidlocal.com
SUMMARY:Skirtbike Oradea 2017
DESCRIPTION:Skirtbike Oradea 2017.\nSkirtBike Oradea reprezintă comunitatea femeilor de toate vârstele care care au adoptat bicicleta ca mijloc de transport\, oferind o alternativă chic acestei activități în care au găsit un mod de exprimare și chiar un stil de viață. Oradea face parte din mişcarea naţională SkirtBike începând cu anul 2014\, fiind cel de-al 13 oraş din ţară care s-a alăturat acestei iniţiative. Pe plan local\, asociaţia parteneră este Rotaract Club Oradea în calitate de organizator principal. \nParticiparea la acest eveniment este gratuită iar organizatorii vor oferi fiecărei bicicliste un bilet la o tombolă ale cărei premii au fost oferite de către sponsorii evenimentului. \nData event-ului: 03 septembrie 2017\nInterval orar: 16:00 – 19:00 \n
URL:https://ghidlocal.com/oradea/eveniment/skirtbike-oradea-2017/
CATEGORIES:Sport
ATTACH;FMTTYPE=image/jpeg:https://cdn.cluj.com/ghidlocalcom/sites/2/2017/08/skirtbike.jpg
END:VEVENT
END:VCALENDAR