BEGIN:VCALENDAR
VERSION:2.0
PRODID:-//Oradea - ECPv5.1.1//NONSGML v1.0//EN
CALSCALE:GREGORIAN
METHOD:PUBLISH
X-WR-CALNAME:Oradea
X-ORIGINAL-URL:https://ghidlocal.com/oradea
X-WR-CALDESC:Events for Oradea
BEGIN:VTIMEZONE
TZID:Europe/Bucharest
BEGIN:DAYLIGHT
TZOFFSETFROM:+0200
TZOFFSETTO:+0300
TZNAME:EEST
DTSTART:20190331T010000
END:DAYLIGHT
BEGIN:STANDARD
TZOFFSETFROM:+0300
TZOFFSETTO:+0200
TZNAME:EET
DTSTART:20191027T010000
END:STANDARD
END:VTIMEZONE
BEGIN:VEVENT
DTSTART;TZID=Europe/Bucharest:20190419T190000
DTEND;TZID=Europe/Bucharest:20190419T210000
DTSTAMP:20260421T121405
CREATED:20190414T120946Z
LAST-MODIFIED:20190414T123548Z
UID:25223-1555700400-1555707600@ghidlocal.com
SUMMARY:Seară italienească by Chef Paul Antal
DESCRIPTION:Vineri\, 19 aprilie\, ora 19:00\, vă așteptăm la o seară italienească cu un meniu special pregătit de Chef Antal Paul. \nMeniul va conține:\n– Paste Carbonara\n– Panna cotta cu bezea de lavandă și sos de fructe\n– Antipasto italian\n– 1 pahar de frizzante Capriccio d’autore \nVă așteptăm cu drag să descoperim specificul bucătăriei tradiționale italiene ???\nRezervări: ☎ 0749 583 753 \nCost meniu: 55 ron \nhttps://www.facebook.com/events/304835793545107/ \n
URL:https://ghidlocal.com/oradea/eveniment/seara-italieneasca-by-chef-paul-antal/
LOCATION:RA Oradea\, RA Oradea
CATEGORIES:Culinar
ATTACH;FMTTYPE=image/jpeg:https://cdn.cluj.com/ghidlocalcom/sites/2/2019/04/Seara%CC%86-italieneasca%CC%86-by-Chef-Paul-Antal-.jpg
END:VEVENT
END:VCALENDAR