BEGIN:VCALENDAR
VERSION:2.0
PRODID:-//Oradea - ECPv5.1.1//NONSGML v1.0//EN
CALSCALE:GREGORIAN
METHOD:PUBLISH
X-WR-CALNAME:Oradea
X-ORIGINAL-URL:https://ghidlocal.com/oradea
X-WR-CALDESC:Events for Oradea
BEGIN:VTIMEZONE
TZID:Europe/Bucharest
BEGIN:DAYLIGHT
TZOFFSETFROM:+0200
TZOFFSETTO:+0300
TZNAME:EEST
DTSTART:20190331T010000
END:DAYLIGHT
BEGIN:STANDARD
TZOFFSETFROM:+0300
TZOFFSETTO:+0200
TZNAME:EET
DTSTART:20191027T010000
END:STANDARD
END:VTIMEZONE
BEGIN:VEVENT
DTSTART;TZID=Europe/Bucharest:20190316T120000
DTEND;TZID=Europe/Bucharest:20190316T170000
DTSTAMP:20260422T101748
CREATED:20190311T064434Z
LAST-MODIFIED:20190311T070020Z
UID:24859-1552737600-1552755600@ghidlocal.com
SUMMARY:Schimb de seminte/ Tavaszi magbörze @Moszkva
DESCRIPTION:Schimb de semințe si alte materiale de inmultire (bulbi\, lastari\, rasaduri\, radacini) ?.\nAcest eveniment se adreseaza persoanelor care doresc sa daruiasca liber si/sau sa schimbe seminte nonhibride (de preferinta seminte traditionale\, autohtone si „curate”\, dar nu sunt excluse nici cele din comert). Puteti aduce inclusiv puieti de pomi\, copaci\, plante salbatice\, plante decorative\, ingrasaminte NATURALE si compost\, ciuperici (spori\, miceliu).\nDaruirea si schimburile de seminte (bulbi\, butasi\, etc) din surplus vor fi cu sursa de provenienta si metodele de ingrijire comunicate cat mai transparent.\n?\nProgramul evenimentului\nIncepem cu cateva prezentari pe tema gradinaritului si a sustenabilitatii :\n12-12:45 – „Gradinatritul de la 0” (pentru gradinari incepatori) – Deák Kocsis Zsuzsa\n12:45-13:30 – „Cateva informatii bine de stiut despre seminte si semanat” – Szőke Edit\n13:30-14:15 – „Principiile agriculturii sustenabile si a gandirii ecologice” – Kocsis Olivér Géza\n14:15-14:45 – „Ce este compostul si cum compostez si eu?” – Piroi-Bakk Ramona. \nApoi intre orele 15-17 va avea loc schimbul/daruirea semintelor si a celorlalte materiale de inmultire.\nSa incercam sa uitam de bani :). Daca nu aveti seminte sau alte materiale de inmultire puteti oferi in schimbul lor de exemplu bunatati de casa din propria productie (gemuri sau alte „conserve”\, paine de casa\, prajituri\, lactate etc).\nGustarile\, prajuturile de casa sunt deci binevenite la eveniment!\n?\nEveniment cu INTRARE LIBERA\, organizat in SPIRITUL SUSTENABILITATII.\nAstfel avem rugamintea SA EVITAM PE CAT POSIBIL FOLOSIREA AMBALAJELOR DE PLASTIC DE UNICA FOLOSINTA. In loc de pungi de plastic putem folosi hartie/pungi de hartie pentru ambalarea/portionarea semintelor (eventual putem reutiliza pungile de plastic folosite – important este sa nu cumparam materiale din plastic noi pentru acest scop)\nMultumim mult pentru intelegere si colaborare! ♻?? \nVa asteptam cu drag\, haideti sa ne cunoastem intr-un numar cat mai mare! \n*****************************************************************************\n//HU/:\nMag- és más szaporítóanyagok (palánták\, dugványok\, gyökerek\, virághagymák stb) csereberéje ?. Elsősorban hagyományos\, tájfajta és „tiszta” vetőmagokat várunk a börzére\, de a „bolti” magok sincsenek kizárva (de csak NONHIBRID magokat hozzatok!).\nLehet hozni facsemetéket\, dekornövényeket\, gombaspórát és micéliumot\, vadnövények magvait és akár komposztot is!\nKérjük\, hogy a magok származása és kezelésének módja legyen korrektül lekommunikálva.\nAz esemény mindazoknak szól\, akik szívesen csereberélnének\, és/vagy ingyen felajánlanák másoknak felesleges/többlet magvaikat és egyéb szaporítóanyagaikat.\n?\nAz esemény néhány kertészkedéssel és fenntarthatósággal kapcsolatos előadással kezdődik az alábbiak szerint:\n12-12:45 – „Kertészkedés a nulláról” (Kertészkedés kezdőknek) -Kocsis-Deák Zsuzsa\n12:45-13:30 – „Néhány hasznos tudnivaló a magokról és a megvetésről” – Szőke Edit\n13:30-14:15 – „A fenntartható mezőgazdaság és az ökogondolkodásmód alapjai” – Kocsis Olivér Géza\n14:15-14:45 – Mi az a komposzt és hogyan komposztálok én? -Piroi-Bakk Ramona. \n15-17: Mag- és egyéb szaporítóanyagok csereberéje.\nPróbáljunk meg megfeledkezni a pézről a megbörze idejére\, hisz ez inkább a csereberéről és a felajánlásról szól :).\nAkinek még nincsenek saját magvai és/vagy szapórítóanyagai az felajánlhat értük cserébe például saját készítésű házi finomságokat (pl. süti\, kenyér\, lekvár\, szörp\, zakuszka\, tejtermék stb). \nHázi sütit\, pogácsát egyéb falatkákat bátran hozzatok tehát\, ezeket akár együtt el is fogyaszthatjuk az eseményen!\n?\nAz esemény INGYENES.\nMivel az esemény a FENNTARTHATÓSÁG jegyében szerveződik\, megkérünk midenkit\, hogy amennyire lehetséges\, KERÜLJÜK A FELESLEGES\, EGYSZER HASZNÁLATOS MŰANYAGZACSIK ÉS CSOMAGOLÓANYAGOK HASZNÁLATÁT. Műanyag helyett használjunk PAPÍRzacsit és a magok csomagolásához (esetleg a már használt\, de tiszta műanyagzacsikat is újra felhasználhatjuk – lényeg\, hogy ne vásároljuk ezért újabb műanyag csomagolóanyagokat).\nNagyon köszönjük a megértést és a közreműködést ♻??. \nGyertek minél nagyobb számban\, mindenkit szeretettel várunk! \nhttps://www.facebook.com/events/2540821522812008/ \n
URL:https://ghidlocal.com/oradea/eveniment/schimb-de-seminte-tavaszi-magborze-moszkva/
LOCATION:Moszkva Kávézó\, Moszkva Kávézó
CATEGORIES:Caritabil
ATTACH;FMTTYPE=image/jpeg:https://cdn.cluj.com/ghidlocalcom/sites/2/2019/03/Schimb-de-seminte-Tavaszi-magbo%CC%88rze-%40Moszkva-.jpg
END:VEVENT
END:VCALENDAR