BEGIN:VCALENDAR
VERSION:2.0
PRODID:-//Oradea - ECPv5.1.1//NONSGML v1.0//EN
CALSCALE:GREGORIAN
METHOD:PUBLISH
X-WR-CALNAME:Oradea
X-ORIGINAL-URL:https://ghidlocal.com/oradea
X-WR-CALDESC:Events for Oradea
BEGIN:VTIMEZONE
TZID:Europe/Bucharest
BEGIN:DAYLIGHT
TZOFFSETFROM:+0200
TZOFFSETTO:+0300
TZNAME:EEST
DTSTART:20190331T010000
END:DAYLIGHT
BEGIN:STANDARD
TZOFFSETFROM:+0300
TZOFFSETTO:+0200
TZNAME:EET
DTSTART:20191027T010000
END:STANDARD
END:VTIMEZONE
BEGIN:VEVENT
DTSTART;TZID=Europe/Bucharest:20190316T110000
DTEND;TZID=Europe/Bucharest:20190316T190000
DTSTAMP:20260422T084440
CREATED:20190311T064434Z
LAST-MODIFIED:20190311T070051Z
UID:24858-1552734000-1552762800@ghidlocal.com
SUMMARY:Sărbătorim împreună 10 ani de Era Shopping Park
DESCRIPTION:Pe 16 martie împlinim 1⃣0⃣ ani de când suntem împreună și punem la cale o zi de sărbătoare la care vă invităm pe toți! ? \nHai și tu să te distrezi alături de noi: \n? între 11:00 – 12:00\, în sala de evenimente urmărim piesa de teatru ”Cufărul magic”\, jucată de compania Teatrul Pe Roti din Arad\, o piesă de teatru foarte interactivă cu multă culoare.\n?între 12:00 – 14:00\, sub cupolă\, vă invităm la o felie din deliciosul tort aniversar care cântărește peste 55 kg\n?între 12:00 – 14:00 participăm împreună la Baloniada\n? între 12:00 – 13:00\, sub cupolă\, vedem marionetele gigant\n?între 13:00 – 14:00\, la galeria Carrefour\, ne întâlnim cu statuile vivante interactive\n? între 13:00 – 14:00\, în parcare putem vedea animatorii pe picioroange\n? între 17:00 – 17:15\, participăm la un Fashion Show vor fi prezentate colecțiile magazinelor din ERA Park\n?între 17:15 – 17:45\, vă invităm la recital Maria Chiș și al Larisa Oneț\n? între 18:00 – 19:00\, îi vedem pe Carla’s Dreams într-un spectaculos show live \nNe vedem? ? \nhttps://www.facebook.com/events/797367570595732/ \n
URL:https://ghidlocal.com/oradea/eveniment/sarbatorim-impreuna-10-ani-de-era-shopping-park/
LOCATION:Era Park Oradea\, Era Park Oradea
CATEGORIES:Concerte
ATTACH;FMTTYPE=image/jpeg:https://cdn.cluj.com/ghidlocalcom/sites/2/2019/03/Sa%CC%86rba%CC%86torim-i%CC%82mpreuna%CC%86-10-ani-de-Era-Shopping-Park-.jpg
END:VEVENT
END:VCALENDAR