BEGIN:VCALENDAR
VERSION:2.0
PRODID:-//Oradea - ECPv5.1.1//NONSGML v1.0//EN
CALSCALE:GREGORIAN
METHOD:PUBLISH
X-WR-CALNAME:Oradea
X-ORIGINAL-URL:https://ghidlocal.com/oradea
X-WR-CALDESC:Events for Oradea
BEGIN:VTIMEZONE
TZID:Europe/Bucharest
BEGIN:DAYLIGHT
TZOFFSETFROM:+0200
TZOFFSETTO:+0300
TZNAME:EEST
DTSTART:20190331T010000
END:DAYLIGHT
BEGIN:STANDARD
TZOFFSETFROM:+0300
TZOFFSETTO:+0200
TZNAME:EET
DTSTART:20191027T010000
END:STANDARD
END:VTIMEZONE
BEGIN:VEVENT
DTSTART;TZID=Europe/Bucharest:20190312T173000
DTEND;TZID=Europe/Bucharest:20190312T203000
DTSTAMP:20260421T124223
CREATED:20190311T064432Z
LAST-MODIFIED:20190311T070408Z
UID:24851-1552411800-1552422600@ghidlocal.com
SUMMARY:Roma Antică. Tehnologie civilă şi militară
DESCRIPTION:Vă invităm la vernisajul expoziţiei ROMA ANTICĂ. Civilizaţie şi grandoare. Tehnologie civilă şi militară\, care va avea loc marţi\, 12 martie 2019\, ora 17.30\, la sediul muzeului din Str. Armatei Române nr.1/A.\n„Maşinile” artizanilor din familia Niccolai prezentate la Muzeul Ţării Crişurilor au fost înfăţişate publicului pentru prima dată în 2010\, la Roma\, într-o expoziție intitulată Mașina – Tehnologia în Roma Antică. Aceasta a fost premiată de către președintele Italiei cu medalia de aur pentru inovație culturală\, fiind numită de către mass media vremii „un nou mod de a prezenta istoria”.\nExpoziţia aduce în prim-plan remarcabilele realizări ale civilizației Romei Antice\, prin reconstituiri de piese realizate pe baza unor date istorice verificabile și inspirate de obiecte şi texte autentice (tratatul lui Vitruviu) aflate în muzee din Italia. Ea este însoţită de prezentări 3D şi de un film despre Imperiul roman.\nÎn deschidere vor lua cuvîntul: dr. Aurel Chiriac\, directorul Muzeului Ţării Crişurilor\, şi prof.univ.dr. Mihai Bărbulescu\, de la Universitatea Babeş-Bolyai din Cluj-Napoca\, membru corespondent al Academiei Române\, specialist în istorie antică. \nhttps://www.facebook.com/events/393040454856541/ \n
URL:https://ghidlocal.com/oradea/eveniment/roma-antica-tehnologie-civila-si-militara/
LOCATION:Muzeul Ţării Crişurilor\, Muzeul Ţării Crişurilor
CATEGORIES:Expoziție
ATTACH;FMTTYPE=image/jpeg:https://cdn.cluj.com/ghidlocalcom/sites/2/2019/03/Roma-Antica%CC%86.-Tehnologie-civila%CC%86-s%CC%A7i-militara%CC%86-.jpg
END:VEVENT
END:VCALENDAR