BEGIN:VCALENDAR
VERSION:2.0
PRODID:-//Oradea - ECPv5.1.1//NONSGML v1.0//EN
CALSCALE:GREGORIAN
METHOD:PUBLISH
X-WR-CALNAME:Oradea
X-ORIGINAL-URL:https://ghidlocal.com/oradea
X-WR-CALDESC:Events for Oradea
BEGIN:VTIMEZONE
TZID:Europe/Bucharest
BEGIN:DAYLIGHT
TZOFFSETFROM:+0200
TZOFFSETTO:+0300
TZNAME:EEST
DTSTART:20160327T010000
END:DAYLIGHT
BEGIN:STANDARD
TZOFFSETFROM:+0300
TZOFFSETTO:+0200
TZNAME:EET
DTSTART:20161030T010000
END:STANDARD
END:VTIMEZONE
BEGIN:VEVENT
DTSTART;TZID=Europe/Bucharest:20161121T090000
DTEND;TZID=Europe/Bucharest:20161125T180000
DTSTAMP:20260422T202218
CREATED:20161117T085539Z
LAST-MODIFIED:20161118T125900Z
UID:5303-1479718800-1480096800@ghidlocal.com
SUMMARY:Robotul Curiosity și Galileo Galilei vin la Oradea
DESCRIPTION:Primul planetariu mobil din România va ajunge la Oradea\, între 21 și 25 noiembrie 2016\, alături de Robotul Curiosity și Galileo Galilei.\nVizitatorii vor putea afla lucruri noi despre univers\, constelații\, asteroizi\, exploratori ai universului\, Galileo Galilei sau robotul Curiosity\, în cadrul unor serii de proiecții spectaculoase însoțite de prezentări interactive\, care vor avea loc într-un dome mobil cu diametrul de 8 metri și înălțimea de 5 metri. \nSpectacolele vor avea loc la Casa de Cultură a municipiului Oradea\, sala „Florica Ungur”\, în perioada 21 – 25 noiembrie\, între orele 9:00 și 18:00. Proiectul este unul unic prin caracterul său educațional și interactiv. \n„Voinţa şi gândirea copiilor merită încurajate către ştiinţele aerospaţiale. Sigur aceste lucruri trebuie prezentate interactiv\, cu informaţie adaptată pentru toate vârstele. Planetariul Mobil este locul în care copiii „DA\, AU VOIE SĂ VORBEASCĂ“ şi sunt chiar încurajaţi şi apreciaţi pentru acest lucru. \nE important ca ei să poată pune întrebări\, să-și exprime bucuria liber și să își dea seama de frumusețea universului\, mai ales în contextul în care astronomia e o știință în plină expansiune\, căreia i se acordă o atenție din ce în ce mai mare și de către publicul larg. Cine știe? Următorul Gagarin s-ar putea naște la Oradea”\, a declarat Adrian Filpișan\, inițiatorul și coordonatorul principal al Planetariului Mobil Educațional. \nPlanetariul Mobil Educațional vine să suplinească lipsa unor astfel de spectacole în multe orașe ale țării. \n„În România există planetarii în foarte puține orașe și\, de cele mai multe ori\, prezentările care se fac acolo sunt statice\, iar vizitatorii asistă pasiv la un discurs înregistrat în prealabil. La Oradea\, totul se va petrece în prezența unui povestitor unplugged\, care va aduce bolta cerească mai aproape de vizitatori\, prin povești și informații interesante. \nEl va răspunde oricăror curiozități ale copiilor și va interacționa permanent cu aceștia. Spectacolele noastre se desfășoară întotdeauna în această formulă\, iar răspunsul publicului este mereu unul pozitiv”\, a completat Adrian Filpișan. \nPrezentarea de la Oradea poartă titlul „Exploratori ai Universului: Galileo Galilei și Curiosity” și va conține o hartă 1:1 a boltei cerești de deasupra oraşului Oradea\, însoțită de explicații\, informații privitoare la exploratorii spațiului\, constelații și planete\, dar și o proiecție 3D a unor asteroizi în mișcare\, care poate fi urmărită fără ochelari speciali. \nDe asemenea\, cei prezenți la eveniment se vor lăsa purtați de telescopul Hubble în tainele universului\, iar la sfârșit vor putea cunoaște un astronaut de pe Stația Spațială Internațională. \nSpectacolele se vor desfășura din oră în oră\, cu începere la orele fixe. Durata unei proiecții este de aproximativ 50 de minute\, iar prețul unui bilet va fi de 11 RON. Domul în care se vor desfășura spectacolele are o capacitate de primire pentru 60 de persoane. \nAccesul la eveniment se face fie pe bază de rezervări la 0752 690 245 sau contact@planetariumobil.ro\, fie cu 15 minute înainte de începerea spectacolului\, în limita locurilor disponibile. \nVârsta minimă recomandată pentru vizitatori este de 4 ani\, cu însoțitor adult. Proiectul Planetariu Mobil Educațional este o inițiativă a Asociației Astronomice Pluto. \nEvenimentul de la Oradea se va desfășura în parteneriat cu Casa de Cultură a municipuiului Oradea\, sala „Florica Ungur” și Calendarul Magic. \nPentru mai multe detalii\, vă invităm să accesați pagina de Facebook a evenimentului. \n
URL:https://ghidlocal.com/oradea/eveniment/robotul-curiosity-si-galileo-galilei-vin-la-oradea/
LOCATION:Sala „Florica Ungur”\, Piața Regele Ferdinand\, nr. 4\, Oradea\, Bihor\, România
CATEGORIES:Activitati pentru copii,Educatie
ATTACH;FMTTYPE=image/jpeg:https://cdn.cluj.com/ghidlocalcom/sites/2/2016/11/Exploratori_ai_universului_galieo_galilei_si_robotul_curiosity.jpg
END:VEVENT
END:VCALENDAR