BEGIN:VCALENDAR
VERSION:2.0
PRODID:-//Oradea - ECPv5.1.1//NONSGML v1.0//EN
CALSCALE:GREGORIAN
METHOD:PUBLISH
X-WR-CALNAME:Oradea
X-ORIGINAL-URL:https://ghidlocal.com/oradea
X-WR-CALDESC:Events for Oradea
BEGIN:VTIMEZONE
TZID:Europe/Bucharest
BEGIN:DAYLIGHT
TZOFFSETFROM:+0200
TZOFFSETTO:+0300
TZNAME:EEST
DTSTART:20190331T010000
END:DAYLIGHT
BEGIN:STANDARD
TZOFFSETFROM:+0300
TZOFFSETTO:+0200
TZNAME:EET
DTSTART:20191027T010000
END:STANDARD
END:VTIMEZONE
BEGIN:VEVENT
DTSTART;TZID=Europe/Bucharest:20190317T200000
DTEND;TZID=Europe/Bucharest:20190317T223000
DTSTAMP:20260422T153132
CREATED:20190130T115434Z
LAST-MODIFIED:20190311T065947Z
UID:24492-1552852800-1552861800@ghidlocal.com
SUMMARY:Richard Clayderman - Cele 7 arte - Oradea
DESCRIPTION:Richard Clayderman\, cel mai cunoscut pianist al tuturor timpurilor revine în România cu un show inovator care vă va trezi toate simțurile si va încânta la superlativ. Alături de Orchestra Simfonică si invitații săi: Dan Puric\, o emblemă a culturii românesti si maestrul caricaturist\, Stefan Popa’s\, \nPrince of Romance vă invită într-o călătorie fascinantă în universul artei.\nNoua producție va aduce în scenă elemente din toate cele 7 arte: arhitectura\, sculptura\, pictura\, poezia\, dansul\, filmul și bineințeles muzica. \nRichard Clayderman a fost denumit de Cartea Recordurilor drept “cel mai de succes pianist al tuturor timpurilor” grație carierei sale impresionante ce cuprinde peste 1300 de piese înregistrate și 150 de milioane de albume vândute în întreaga lume. El a fost distins cu 267 de discuri de aur și 70 de discuri de platină până în acest moment. \nhttps://www.facebook.com/events/576634999469098/ \n
URL:https://ghidlocal.com/oradea/eveniment/richard-clayderman-cele-7-arte-oradea/
LOCATION:Teatrul Regina Maria\, Teatrul Regina Maria
CATEGORIES:Concerte
ATTACH;FMTTYPE=image/jpeg:https://cdn.cluj.com/ghidlocalcom/sites/2/2019/01/Richard-Clayderman-Cele-7-arte-Oradea-.jpg
END:VEVENT
END:VCALENDAR