BEGIN:VCALENDAR
VERSION:2.0
PRODID:-//Oradea - ECPv5.1.1//NONSGML v1.0//EN
CALSCALE:GREGORIAN
METHOD:PUBLISH
X-WR-CALNAME:Oradea
X-ORIGINAL-URL:https://ghidlocal.com/oradea
X-WR-CALDESC:Events for Oradea
BEGIN:VTIMEZONE
TZID:Europe/Bucharest
BEGIN:DAYLIGHT
TZOFFSETFROM:+0200
TZOFFSETTO:+0300
TZNAME:EEST
DTSTART:20180325T010000
END:DAYLIGHT
BEGIN:STANDARD
TZOFFSETFROM:+0300
TZOFFSETTO:+0200
TZNAME:EET
DTSTART:20181028T010000
END:STANDARD
END:VTIMEZONE
BEGIN:VEVENT
DTSTART;TZID=Europe/Bucharest:20180728T080000
DTEND;TZID=Europe/Bucharest:20180729T220000
DTSTAMP:20260420T050845
CREATED:20180726T094856Z
LAST-MODIFIED:20180726T094856Z
UID:22784-1532764800-1532901600@ghidlocal.com
SUMMARY:Relaxare de vară la piscinele Hotelului Termal
DESCRIPTION:Dacă vreți să vă răcoriți și să vă distrați\, vă așteaptă la piscinele Hotelului Termal din Băile Felix. Muzică bună\, cocktailuri colorate la barul din piscină și activități interactive pentru copii și adulți. \nProgram divertisment (inclus în tariful de acces):\nDe luni până vineri ora 11:45 Aquagym \nSâmbătă 21 Iulie\nora 11:45 AquaZumba cu Ilaria Team\nora 16:30-18:30 Jocuri și activități pentru copii cu Prietenii Veseliei \nDuminică 22 Iulie\nora 11:45 AquaZumba cu Ilaria Team\nora 16:30-18:30 Jocuri și activități pentru copii cu Prietenii Veseliei \nSâmbătă 28 Iulie\nora 11:45 AquaZumba cu Ilaria Team\nora 16:30-18:30 Jocuri și activități pentru copii cu Prietenii Veseliei \nDuminică 29 Iulie\nora 11:45 AquaZumba cu Ilaria Team\nora 16:30-18:30 Jocuri și activități pentru copii cu Prietenii Veseliei \nTarife acces/zi/persoană (valabile o singură intrare):\nCopii sub 4 ani – Gratuit\nCopii până la 12 ani – 15 lei\nAdulți – 30 lei \nOrar: Zilnic de la 8:00 la 20:00 \n
URL:https://ghidlocal.com/oradea/eveniment/relaxare-de-vara-la-piscinele-hotelului-termal/2018-07-28/
LOCATION:Hotel Termal
CATEGORIES:Turism
ATTACH;FMTTYPE=image/jpeg:https://cdn.cluj.com/ghidlocalcom/sites/2/2018/07/Relaxare-de-var%C4%83-la-piscinele-Hotelului-Termal.jpg
ORGANIZER;CN="Sc%20Turism%20Felix%20Sa":MAILTO:http://www.felixspa.com
END:VEVENT
END:VCALENDAR