BEGIN:VCALENDAR
VERSION:2.0
PRODID:-//Oradea - ECPv5.1.1//NONSGML v1.0//EN
CALSCALE:GREGORIAN
METHOD:PUBLISH
X-WR-CALNAME:Oradea
X-ORIGINAL-URL:https://ghidlocal.com/oradea
X-WR-CALDESC:Events for Oradea
BEGIN:VTIMEZONE
TZID:Europe/Bucharest
BEGIN:DAYLIGHT
TZOFFSETFROM:+0200
TZOFFSETTO:+0300
TZNAME:EEST
DTSTART:20190331T010000
END:DAYLIGHT
BEGIN:STANDARD
TZOFFSETFROM:+0300
TZOFFSETTO:+0200
TZNAME:EET
DTSTART:20191027T010000
END:STANDARD
END:VTIMEZONE
BEGIN:VEVENT
DTSTART;TZID=Europe/Bucharest:20190202T200000
DTEND;TZID=Europe/Bucharest:20190203T020000
DTSTAMP:20260421T214134
CREATED:20190124T140459Z
LAST-MODIFIED:20190130T121954Z
UID:24385-1549137600-1549159200@ghidlocal.com
SUMMARY:Raggaeton & Hip-hop party with Dj White
DESCRIPTION:Raggaeton party with Dj White  \nhttps://www.facebook.com/events/346531859517425/ \n
URL:https://ghidlocal.com/oradea/eveniment/raggaeton-hip-hop-party-with-dj-white/
LOCATION:Bodega\, Bodega
CATEGORIES:Concerte
ATTACH;FMTTYPE=image/jpeg:https://cdn.cluj.com/ghidlocalcom/sites/2/2019/01/Raggaeton-Hip-hop-party-with-Dj-White-.jpg
END:VEVENT
END:VCALENDAR