BEGIN:VCALENDAR
VERSION:2.0
PRODID:-//Oradea - ECPv5.1.1//NONSGML v1.0//EN
CALSCALE:GREGORIAN
METHOD:PUBLISH
X-WR-CALNAME:Oradea
X-ORIGINAL-URL:https://ghidlocal.com/oradea
X-WR-CALDESC:Events for Oradea
BEGIN:VTIMEZONE
TZID:Europe/Bucharest
BEGIN:DAYLIGHT
TZOFFSETFROM:+0200
TZOFFSETTO:+0300
TZNAME:EEST
DTSTART:20190331T010000
END:DAYLIGHT
BEGIN:STANDARD
TZOFFSETFROM:+0300
TZOFFSETTO:+0200
TZNAME:EET
DTSTART:20191027T010000
END:STANDARD
END:VTIMEZONE
BEGIN:VEVENT
DTSTART;TZID=Europe/Bucharest:20190202T170000
DTEND;TZID=Europe/Bucharest:20190202T182000
DTSTAMP:20260421T232137
CREATED:20190124T140459Z
LAST-MODIFIED:20190130T122009Z
UID:24383-1549126800-1549131600@ghidlocal.com
SUMMARY:Profu` de franceză
DESCRIPTION:Elevii clasei a douăsprezecea\, zurlii și puși pe distracție\, au parte\, pe lângă agitația provocată de iminența examenului de bacalaureat\, de tensiuni iscate de apariția noului profesor de franceză\, „mișto\, tânăr\, brunet\, înalt…”\, în care fetele descoperă un adonis\, iar băieții un rival. \nAceastă noutate dă naștere unor situații conflictuale\, pentru aplanarea cărora e necesar să intervină chiar diriginta\, al cărei interes este\, de asemenea\, îndreptat spre tânărul profesor. Naivitatea din care izbucnesc neînțelegerile creează comicul de situație\, alcătuind un spectacol original\, vesel și plin de viață. \nAtât evenimentele în sine\, cât și modul în care acestea sunt puse în scenă\, îmbracă spectacolul într-o mantie a universalității\, acesta fiind accesibil spectactorilor\, care\, indiferent de vârstă\, vor reuși cu ușurință să se identifice sau să empatizeze cu oricare dintre personaje. \nDistribuție: \nAntonia Panait: Georgia CăprărinTania Popescu: Anca SigmireanAnca: Denisa VladProfu’: Sorin IonescuCosâmbăcescu: Corina CerneaGigi: Alexandru RusuAnibal:  Alin StanciuHeruvim: Eugen NeagIunona: Anda Tămășanu \nRegia artistică și scenografia: Dan Mirea \n? Biletele s-au pus în vânzare la Agenţia de Bilete a Teatrului de marți până vineri în intervalul orar 12:00 – 18:00\, iar în weekend între orele 10:00 – 13:00. Puteţi achiziţiona bilete şi cu o oră înainte spectacol sau online pe www.biletmaster.ro. \nPentru informaţii suplimentare şi rezervări de bilete\, vă invităm să sunaţi la numărul de telefon: 0372/368.475. \nhttps://www.facebook.com/events/340145366583216/ \n
URL:https://ghidlocal.com/oradea/eveniment/profu-de-franceza-6/
LOCATION:Teatrul Regina Maria\, Teatrul Regina Maria
CATEGORIES:Teatru
ATTACH;FMTTYPE=image/jpeg:https://cdn.cluj.com/ghidlocalcom/sites/2/2019/01/Profu-de-franceza%CC%86-.jpg
END:VEVENT
END:VCALENDAR