BEGIN:VCALENDAR
VERSION:2.0
PRODID:-//Oradea - ECPv5.1.1//NONSGML v1.0//EN
CALSCALE:GREGORIAN
METHOD:PUBLISH
X-WR-CALNAME:Oradea
X-ORIGINAL-URL:https://ghidlocal.com/oradea
X-WR-CALDESC:Events for Oradea
BEGIN:VTIMEZONE
TZID:Europe/Bucharest
BEGIN:DAYLIGHT
TZOFFSETFROM:+0200
TZOFFSETTO:+0300
TZNAME:EEST
DTSTART:20180325T010000
END:DAYLIGHT
BEGIN:STANDARD
TZOFFSETFROM:+0300
TZOFFSETTO:+0200
TZNAME:EET
DTSTART:20181028T010000
END:STANDARD
END:VTIMEZONE
BEGIN:VEVENT
DTSTART;TZID=Europe/Bucharest:20180903T190000
DTEND;TZID=Europe/Bucharest:20180903T200000
DTSTAMP:20260421T043156
CREATED:20180807T090148Z
LAST-MODIFIED:20180807T090148Z
UID:23038-1536001200-1536004800@ghidlocal.com
SUMMARY:Povestea Stelelor
DESCRIPTION:Povestea Stelelor\nLe privim pe cerul nopții\, dar și în noi\, pentru că suntem praf de stele. Una dintre ele\, Soarele\, ne luminează zilele\, cu precizie și devotament\, ne încălzește\, face atmosfera respirabilă\, determină fascinantul proces al fotosintezei. \nLucruri studiate în copilărie și adolescență\, fascinează mintea adultă și pot oferi o perspectivă mai pătrunzătoare asupra evenimentelor cotidiene. Printre acestea sunt și următoarele:\n– bogatul cer al nopții reprezintă aproximativ 3.000 din cele 300 miliarde de stele\, doar din Galaxia Noastră\, o galaxie medie din Universul observabil;\n– stelele\, prin reacțiile nucleare\, sunt sursa elementelor chimice care compun lumea noastră fizică;\n– ce știm despre lumină și formarea acesteia;\n– cum se naște un sistem solar și viața acestuia. \nVă invităm să ne arucăm privirea minții înspre Universul nostru\, macrocosmosul\, cum îl numeau anticii\, pentru ca astfel să căutăm să ne înțelegem mai bine propria viață\, microcosmosul și legile lui. \nIntrarea este liberă\, în limita locurilor disponibile. Înscrieri și informații la telefon 0755 292 542. \n
URL:https://ghidlocal.com/oradea/eveniment/povestea-stelelor/
LOCATION:Noua Acropola Oradea\, Bv. Republicii\, nr. 64 (zona Gării)\, Oradea-Mare\, 410147\, Romania
ATTACH;FMTTYPE=image/jpeg:https://cdn.cluj.com/ghidlocalcom/sites/2/2018/08/Povestea-Stelelor.jpg
END:VEVENT
END:VCALENDAR