BEGIN:VCALENDAR
VERSION:2.0
PRODID:-//Oradea - ECPv5.1.1//NONSGML v1.0//EN
CALSCALE:GREGORIAN
METHOD:PUBLISH
X-WR-CALNAME:Oradea
X-ORIGINAL-URL:https://ghidlocal.com/oradea
X-WR-CALDESC:Events for Oradea
BEGIN:VTIMEZONE
TZID:Europe/Bucharest
BEGIN:DAYLIGHT
TZOFFSETFROM:+0200
TZOFFSETTO:+0300
TZNAME:EEST
DTSTART:20190331T010000
END:DAYLIGHT
BEGIN:STANDARD
TZOFFSETFROM:+0300
TZOFFSETTO:+0200
TZNAME:EET
DTSTART:20191027T010000
END:STANDARD
END:VTIMEZONE
BEGIN:VEVENT
DTSTART;TZID=Europe/Bucharest:20190308T190000
DTEND;TZID=Europe/Bucharest:20190308T230000
DTSTAMP:20260421T004334
CREATED:20190303T235434Z
LAST-MODIFIED:20190304T001030Z
UID:24785-1552071600-1552086000@ghidlocal.com
SUMMARY:Petrecere de 8 Martie
DESCRIPTION:Vino cu colegele sau prietenele la Petrecerea de 8 Martie de la Complexul Perla 1 Mai! Veți avea parte de o distracție de zile mari\, cu mâncare\, băutură și DJ! Petrecerea are loc în sala de evenimente a Aquapark-ului. \nPreț: 85 de lei/persoană. \nRezervări la tel 0772.028.929 \nhttps://www.facebook.com/events/1989050478067158/ \n
URL:https://ghidlocal.com/oradea/eveniment/petrecere-de-8-martie/
LOCATION:Complex Hotelier Wellness  & SPA PERLA\, Complex Hotelier Wellness & SPA PERLA
CATEGORIES:Divertisment
ATTACH;FMTTYPE=image/jpeg:https://cdn.cluj.com/ghidlocalcom/sites/2/2019/03/Petrecere-de-8-Martie-.jpg
END:VEVENT
END:VCALENDAR