BEGIN:VCALENDAR
VERSION:2.0
PRODID:-//Oradea - ECPv5.1.1//NONSGML v1.0//EN
CALSCALE:GREGORIAN
METHOD:PUBLISH
X-WR-CALNAME:Oradea
X-ORIGINAL-URL:https://ghidlocal.com/oradea
X-WR-CALDESC:Events for Oradea
BEGIN:VTIMEZONE
TZID:Europe/Bucharest
BEGIN:DAYLIGHT
TZOFFSETFROM:+0200
TZOFFSETTO:+0300
TZNAME:EEST
DTSTART:20170326T010000
END:DAYLIGHT
BEGIN:STANDARD
TZOFFSETFROM:+0300
TZOFFSETTO:+0200
TZNAME:EET
DTSTART:20171029T010000
END:STANDARD
END:VTIMEZONE
BEGIN:VEVENT
DTSTART;TZID=Europe/Bucharest:20171208T220000
DTEND;TZID=Europe/Bucharest:20171209T040000
DTSTAMP:20260420T121550
CREATED:20171203T131357Z
LAST-MODIFIED:20171208T131405Z
UID:19258-1512770400-1512792000@ghidlocal.com
SUMMARY:Party Mode : ON! with Szanto Denis!
DESCRIPTION:Szanto Denis este un violinist/DJ de muzica electronica\, pop\, house\, dance\, si hip-hop\, care si-a inceput cariera in anul 2015. Inca de pe atunci a fost primit cu bratele larg deschise de catre publicul din Romania\, participand la mai multe festivaluri nationale si internationale. E o prezenta constanta in cadrul Untold festival\, seturile lui avant un efect uimitor in cadrul audientei.  \nUn milestone in cariera lui Denis a reprezentat-o participarea ca artist invites in Franta la Snow Fest in Les Deux Alpes\, cu Subcarpati\, Argatu’\, Suie Paparude\, Vita de Vie. In Romaniaa bifat Colours Festival Oradea\, Schulhoffest Sathmar in Satu-Mare\, Blaj aLive Festival\, unde a concertat alaturi de nume mari in muzica underground cum ar fi B.U.G. Mafia\, R.O.A.\, Grasu XXL si multi altii\, si Summer Pool Fest\, unde a concertat alături legendarii Jack Perry\,DJ Sava\, WHODO\, Loady\, si multi alții.  \nAcestea fiind zise\, share & invite & let the good times roll & dance! La Lord’s\, vineri\, 8 decembrie\, de la ora 22\, intrarea libera!  \nEnjoy that awesome mix that Denis has prepared for warming you up!  \n\nMore details:\nFacebook : https://goo.gl/zcjkSH\nInstagram : https://goo.gl/r1nbQJ\nSoundcloud : https://goo.gl/eZ5usL\nYouTube : https://goo.gl/Ht152o \n
URL:https://ghidlocal.com/oradea/eveniment/party-mode-on-with-szanto-denis/
LOCATION:Lords Oradea\, Piata Unirii 2-4\, Oradea\, 410072\, RO
CATEGORIES:Petrecere
ATTACH;FMTTYPE=image/jpeg:https://cdn.cluj.com/ghidlocalcom/sites/2/2017/12/19258_image_24254909_1170950603037811_3539180074406634602_o.jpg
END:VEVENT
END:VCALENDAR