BEGIN:VCALENDAR
VERSION:2.0
PRODID:-//Oradea - ECPv5.1.1//NONSGML v1.0//EN
CALSCALE:GREGORIAN
METHOD:PUBLISH
X-WR-CALNAME:Oradea
X-ORIGINAL-URL:https://ghidlocal.com/oradea
X-WR-CALDESC:Events for Oradea
BEGIN:VTIMEZONE
TZID:Europe/Bucharest
BEGIN:DAYLIGHT
TZOFFSETFROM:+0200
TZOFFSETTO:+0300
TZNAME:EEST
DTSTART:20180325T010000
END:DAYLIGHT
BEGIN:STANDARD
TZOFFSETFROM:+0300
TZOFFSETTO:+0200
TZNAME:EET
DTSTART:20181028T010000
END:STANDARD
END:VTIMEZONE
BEGIN:VEVENT
DTSTART;TZID=Europe/Bucharest:20180728T190000
DTEND;TZID=Europe/Bucharest:20180728T233000
DTSTAMP:20260419T195413
CREATED:20180725T072447Z
LAST-MODIFIED:20180725T072509Z
UID:22668-1532804400-1532820600@ghidlocal.com
SUMMARY:Panoramă de noapte din Turnul Primăriei Oradea
DESCRIPTION:Panoramă de noapte din Turnul Primăriei Oradea\nVino să vezi cea mai frumoasă panoramă nocturnă a orașului Oradea!\nTurnul Primăriei Oradea poate fi vizitat o dată pe lună și la miez de noapte.\n28 iulie\, între orele 19:00 – 24:00.\nTariful de vizitare:\n5 lei / persoană – cetăţeni români şi/sau străini;\n3 lei / persoană – elevi\, studenţi\, pensionari\, persoane cu handicap\, grupuri organizate mai mari de 10 persoane.\ngratuit – pentru copiii cu vârste de până la 7 ani. \nVă așteptăm! \n
URL:https://ghidlocal.com/oradea/eveniment/panorama-de-noapte-din-turnul-primariei-oradea/
LOCATION:Turnul Primăriei Oradea\, Strada Tudor Vladimirescu nr. 2\, 410100\, Oradea
CATEGORIES:Descopera Oradea
ATTACH;FMTTYPE=image/jpeg:https://cdn.cluj.com/ghidlocalcom/sites/2/2018/07/Panoram%C4%83-nocturn%C4%83.jpg
END:VEVENT
END:VCALENDAR