BEGIN:VCALENDAR
VERSION:2.0
PRODID:-//Oradea - ECPv5.1.1//NONSGML v1.0//EN
CALSCALE:GREGORIAN
METHOD:PUBLISH
X-WR-CALNAME:Oradea
X-ORIGINAL-URL:https://ghidlocal.com/oradea
X-WR-CALDESC:Events for Oradea
BEGIN:VTIMEZONE
TZID:Europe/Bucharest
BEGIN:DAYLIGHT
TZOFFSETFROM:+0200
TZOFFSETTO:+0300
TZNAME:EEST
DTSTART:20190331T010000
END:DAYLIGHT
BEGIN:STANDARD
TZOFFSETFROM:+0300
TZOFFSETTO:+0200
TZNAME:EET
DTSTART:20191027T010000
END:STANDARD
END:VTIMEZONE
BEGIN:VEVENT
DTSTART;TZID=Europe/Bucharest:20190502T110000
DTEND;TZID=Europe/Bucharest:20190505T200000
DTSTAMP:20260424T201144
CREATED:20190408T071407Z
LAST-MODIFIED:20190414T123244Z
UID:25159-1556794800-1557086400@ghidlocal.com
SUMMARY:Oradea Snooker Open\, Ediția a VII-a!
DESCRIPTION:Privește sau Participă! ?? Noi te așteptăm! \n▶ORADEA SNOOKER OPEN\, Ediţia a VII-a 2019\, se va disputa în cadrul clubului Black & White Oradea situat pe str. Al. Vaida Voievod nr. 18 (colţ cu str. Moţilor nr.2)\, et. I. \n▶Durata Openului de Snooker “ORADEA SNOOKER OPEN” Ediţia a VII-a 2019\, se va desfăşura în perioada 02 – 05 MAI 2019\, în scopul promovării sportului numit Snooker şi a Clubului Sportiv de Snooker Black & White Oradea.\nOrganizatorul îşi revendică dreptul de a modifica orele de începere şi de terminare a meciurilor\, dar nu înainte de a anunţa publicul şi concurenţii cu cel puţin 24 ore înainte de startul competiţiei\, pe site-ul oficial al clubului\, www.blackandwhiteoradea.ro \n▶Înscrierea nu este condiţionată de obligativitatea de a fi legitimat la vreun Club Sportiv de Snooker. Este permisă participarea oricărei persoane de orice vârstă şi sex\, excepţie facând persoanele sub 18 ani\, care vor fi nevoite să fie însoţite de cel putin unul dintre părinţi sau un tutore legal. \nPentru mai multe informații legate de competiție\, vă rugăm sa accesați următorul link afișat: https://www.blackandwhiteoradea.ro/regulament-2/ \nhttps://www.facebook.com/events/301495764083004/ \n
URL:https://ghidlocal.com/oradea/eveniment/oradea-snooker-open-editia-a-vii-a/
LOCATION:Black & White Oradea\, Black & White Oradea
CATEGORIES:Sport
ATTACH;FMTTYPE=image/jpeg:https://cdn.cluj.com/ghidlocalcom/sites/2/2019/04/Oradea-Snooker-Open-Edit%CC%A6ia-a-VII-a-.jpg
END:VEVENT
END:VCALENDAR