BEGIN:VCALENDAR
VERSION:2.0
PRODID:-//Oradea - ECPv5.1.1//NONSGML v1.0//EN
CALSCALE:GREGORIAN
METHOD:PUBLISH
X-WR-CALNAME:Oradea
X-ORIGINAL-URL:https://ghidlocal.com/oradea
X-WR-CALDESC:Events for Oradea
BEGIN:VTIMEZONE
TZID:Europe/Bucharest
BEGIN:DAYLIGHT
TZOFFSETFROM:+0200
TZOFFSETTO:+0300
TZNAME:EEST
DTSTART:20190331T010000
END:DAYLIGHT
BEGIN:STANDARD
TZOFFSETFROM:+0300
TZOFFSETTO:+0200
TZNAME:EET
DTSTART:20191027T010000
END:STANDARD
END:VTIMEZONE
BEGIN:VEVENT
DTSTART;TZID=Europe/Bucharest:20190201T200000
DTEND;TZID=Europe/Bucharest:20190202T020000
DTSTAMP:20260424T131825
CREATED:20190130T115428Z
LAST-MODIFIED:20190130T120321Z
UID:24456-1549051200-1549072800@ghidlocal.com
SUMMARY:Oradea night out with Dj Chrisman
DESCRIPTION:Dj Chrisman in the building again ! \nhttps://www.facebook.com/events/2317280861617070/ \n
URL:https://ghidlocal.com/oradea/eveniment/oradea-night-out-with-dj-chrisman/
LOCATION:Bodega\, Bodega
CATEGORIES:Concerte
ATTACH;FMTTYPE=image/jpeg:https://cdn.cluj.com/ghidlocalcom/sites/2/2019/01/Oradea-night-out-with-Dj-Chrisman-.jpg
END:VEVENT
END:VCALENDAR