BEGIN:VCALENDAR
VERSION:2.0
PRODID:-//Oradea - ECPv5.1.1//NONSGML v1.0//EN
CALSCALE:GREGORIAN
METHOD:PUBLISH
X-WR-CALNAME:Oradea
X-ORIGINAL-URL:https://ghidlocal.com/oradea
X-WR-CALDESC:Events for Oradea
BEGIN:VTIMEZONE
TZID:Europe/Bucharest
BEGIN:DAYLIGHT
TZOFFSETFROM:+0200
TZOFFSETTO:+0300
TZNAME:EEST
DTSTART:20190331T010000
END:DAYLIGHT
BEGIN:STANDARD
TZOFFSETFROM:+0300
TZOFFSETTO:+0200
TZNAME:EET
DTSTART:20191027T010000
END:STANDARD
END:VTIMEZONE
BEGIN:VEVENT
DTSTART;TZID=Europe/Bucharest:20190124T170000
DTEND;TZID=Europe/Bucharest:20190124T200000
DTSTAMP:20260424T155507
CREATED:20190124T135646Z
LAST-MODIFIED:20190124T140846Z
UID:24327-1548349200-1548360000@ghidlocal.com
SUMMARY:Oradea: Fără ordonanțe pentru politicieni corupți!
DESCRIPTION:Oradea\, \nMinistrul Justiției a anunțat public că are pregătită ordonanța de urgență ce permite politicienilor corupți să scape de  sentințele pe care le-au primit în dosarele de corupție în care au fost judecați și condamnați.Ce înseamnă asta? Liviu Dragnea scapă de singura condamnare definitivă pe care o are\, până la acest moment. Urmează să scape și de cea de-a doua condamnare pe care a primit-o în primă instanță\, pentru că nimic nu-i va opri să schimbe legile după bunul lor plac\, prin OUG\, dacă le permitem să facă asta. Și\, împreună cu el\, scapă încă câteva sute de cercetați și condamnați penal de rang înalt din politica românească.Dacă credem cu adevărat că noi și țara noastră merităm alt viitor\, atunci trebuie să luptăm! Nici o națiune nu și-a făurit un viitor mai bun stând în case\, în baruri\, în restaurante sau săli de fitness\, în fața televizoarelor sau a telefoanelor mobile. Îi putem învinge pe acești ticăloși dacă ne scuturăm de oboseala și lipsa de speranță! Deci\, ce facem? Acceptăm nemerniciile pe care le face această guvernare\, de peste doi ani deja\, sau ne ridicăm și ne construim o țară modernă\, cu justiție independentă și stat de drept veritabil\, așa cum ar trebui să fie? Dacă vom fi mulți și uniți vom reuși să oprim ordonanțele criminale în stradă! Iar revoluția o vom face mai târziu\, la vot! \nhttps://www.facebook.com/events/570183606828967/ \n
URL:https://ghidlocal.com/oradea/eveniment/oradea-fara-ordonante-pentru-politicieni-corupti/
LOCATION:Piata Unirii\, Oradea\, Piata Unirii\, Oradea
CATEGORIES:Campanii
ATTACH;FMTTYPE=image/jpeg:https://cdn.cluj.com/ghidlocalcom/sites/2/2019/01/Oradea-Fa%CC%86ra%CC%86-ordonant%CC%A6e-pentru-politicieni-corupt%CC%A6i.jpg
END:VEVENT
END:VCALENDAR