BEGIN:VCALENDAR
VERSION:2.0
PRODID:-//Oradea - ECPv5.1.1//NONSGML v1.0//EN
CALSCALE:GREGORIAN
METHOD:PUBLISH
X-WR-CALNAME:Oradea
X-ORIGINAL-URL:https://ghidlocal.com/oradea
X-WR-CALDESC:Events for Oradea
BEGIN:VTIMEZONE
TZID:Europe/Bucharest
BEGIN:DAYLIGHT
TZOFFSETFROM:+0200
TZOFFSETTO:+0300
TZNAME:EEST
DTSTART:20180325T010000
END:DAYLIGHT
BEGIN:STANDARD
TZOFFSETFROM:+0300
TZOFFSETTO:+0200
TZNAME:EET
DTSTART:20181028T010000
END:STANDARD
END:VTIMEZONE
BEGIN:VEVENT
DTSTART;TZID=Europe/Bucharest:20180809T170000
DTEND;TZID=Europe/Bucharest:20180809T200000
DTSTAMP:20260420T031538
CREATED:20180807T065741Z
LAST-MODIFIED:20180807T065741Z
UID:23020-1533834000-1533844800@ghidlocal.com
SUMMARY:Oradea City Tour - Povestea femeii oradence
DESCRIPTION:Oradea City Tour – Povestea femeii oradence \nPovestea Femeii Oradence un tur inedit.\nScriitorul german Theodor Fontane\, afirmă \,\,Nu înțeleg de ce trebuie să fim mereu preocupați de bărbați sau de bătăliile lor: istoria femeilor este adesea mult mai interesantă”\, vă invităm să fim personaje în Povestea Femeii Oradence ♥ . \nPlecare ora 17:00\nParcul 1 Decembrie\, Statuia Soldatului Necunoscut \nDate fixe pentru sezonul estival 2018:\n09 august; 20 septembrie \nPentru tururi tematice sau generale in limba romana\, engleza\, maghiara\, franceza\, germana\, italiana sau spaniola sau alte limbi straine la cerere\, nu ezitati sa ne contactati. echipa nostra de ghizi profesionisti va sta la dispozitie. \nEvenimentul este organizat de Oradea City Tour in colaborare cu Scoala de ghizi Oradea si Eurovacanta\, proiecte si initiative private. \nTurul este in limba romana\, se organizeaza pentru minim 2 participanti.\nLocuri limitate\, inscrierea se face completand formularul de mai jos:\nhttp://s9.ro/gnk \nContact:\nOradea City Tour :\nMobil: 0744551797 sau 0744352355\nOradea\, str. Crinului nr. 5\, jud Bihor \n
URL:https://ghidlocal.com/oradea/eveniment/oradea-city-tour-povestea-femeii-oradence/
LOCATION:Parcul 1 Decembrie\, Oradea\, RO
CATEGORIES:Turism
ATTACH;FMTTYPE=image/jpeg:https://cdn.cluj.com/ghidlocalcom/sites/2/2018/08/Oradea-City-Tour-Povestea-femeii-oradence.jpg
END:VEVENT
END:VCALENDAR