BEGIN:VCALENDAR
VERSION:2.0
PRODID:-//Oradea - ECPv5.1.1//NONSGML v1.0//EN
CALSCALE:GREGORIAN
METHOD:PUBLISH
X-WR-CALNAME:Oradea
X-ORIGINAL-URL:https://ghidlocal.com/oradea
X-WR-CALDESC:Events for Oradea
BEGIN:VTIMEZONE
TZID:Europe/Bucharest
BEGIN:DAYLIGHT
TZOFFSETFROM:+0200
TZOFFSETTO:+0300
TZNAME:EEST
DTSTART:20180325T010000
END:DAYLIGHT
BEGIN:STANDARD
TZOFFSETFROM:+0300
TZOFFSETTO:+0200
TZNAME:EET
DTSTART:20181028T010000
END:STANDARD
END:VTIMEZONE
BEGIN:VEVENT
DTSTART;TZID=Europe/Bucharest:20181203T170000
DTEND;TZID=Europe/Bucharest:20181203T200000
DTSTAMP:20260421T055520
CREATED:20181123T033919Z
LAST-MODIFIED:20181123T033919Z
UID:24293-1543856400-1543867200@ghidlocal.com
SUMMARY:Opera „Barbierul din Sevilla” in Oradea
DESCRIPTION:Spectacolul de operă „Bărbierul din Sevilla” pe scena Teatrului „Regina Maria” din Oradea\, în 3 decembrie 2018\, ora 19:00. Prețul biletelor este de: \n30 lei – locuri în ultimele rânduri de la balconîntre 40 – 60 lei – locuri în primele rânduri de la balcon60 de lei – locuri în salăîntre 50 – 70 de lei – locuri în lojă Biletele se achiziționează doar de la Agenția de Bilete a teatrului. \nhttps://www.facebook.com/events/1546484252118781/ \n
URL:https://ghidlocal.com/oradea/eveniment/opera-barbierul-din-sevilla-in-oradea/
LOCATION:Teatrul Regina Maria\, Teatrul Regina Maria
END:VEVENT
END:VCALENDAR