BEGIN:VCALENDAR
VERSION:2.0
PRODID:-//Oradea - ECPv5.1.1//NONSGML v1.0//EN
CALSCALE:GREGORIAN
METHOD:PUBLISH
X-WR-CALNAME:Oradea
X-ORIGINAL-URL:https://ghidlocal.com/oradea
X-WR-CALDESC:Events for Oradea
BEGIN:VTIMEZONE
TZID:Europe/Bucharest
BEGIN:DAYLIGHT
TZOFFSETFROM:+0200
TZOFFSETTO:+0300
TZNAME:EEST
DTSTART:20190331T010000
END:DAYLIGHT
BEGIN:STANDARD
TZOFFSETFROM:+0300
TZOFFSETTO:+0200
TZNAME:EET
DTSTART:20191027T010000
END:STANDARD
END:VTIMEZONE
BEGIN:VEVENT
DTSTART;TZID=Europe/Bucharest:20190314T200000
DTEND;TZID=Europe/Bucharest:20190314T230000
DTSTAMP:20260421T213234
CREATED:20190311T064433Z
LAST-MODIFIED:20190311T070204Z
UID:24855-1552593600-1552604400@ghidlocal.com
SUMMARY:Open Mic @Moszkva
DESCRIPTION:Come out and enjoy our Open Mic at Moszkva Kávézó! \nMusicians\, Poets\, Freestylers\, Comedians\, etc… all are welcome\, don’t be shy! \nPerformers can sign up on spot or in advance (recommended) at: write a message to Moszkva Kávézó. \n#openmic #moszkva #moszkvacafe #musicians #poets #freestylers #comedians #slampoetry #mic #oradea #friends \nhttps://www.facebook.com/events/332986217330048/ \n
URL:https://ghidlocal.com/oradea/eveniment/open-mic-moszkva/
LOCATION:Moszkva Kávézó\, Moszkva Kávézó
CATEGORIES:Concerte
ATTACH;FMTTYPE=image/jpeg:https://cdn.cluj.com/ghidlocalcom/sites/2/2019/03/Open-Mic-%40Moszkva-.jpg
END:VEVENT
END:VCALENDAR