BEGIN:VCALENDAR
VERSION:2.0
PRODID:-//Oradea - ECPv5.1.1//NONSGML v1.0//EN
CALSCALE:GREGORIAN
METHOD:PUBLISH
X-WR-CALNAME:Oradea
X-ORIGINAL-URL:https://ghidlocal.com/oradea
X-WR-CALDESC:Events for Oradea
BEGIN:VTIMEZONE
TZID:Europe/Bucharest
BEGIN:DAYLIGHT
TZOFFSETFROM:+0200
TZOFFSETTO:+0300
TZNAME:EEST
DTSTART:20190331T010000
END:DAYLIGHT
BEGIN:STANDARD
TZOFFSETFROM:+0300
TZOFFSETTO:+0200
TZNAME:EET
DTSTART:20191027T010000
END:STANDARD
END:VTIMEZONE
BEGIN:VEVENT
DTSTART;TZID=Europe/Bucharest:20190316T190000
DTEND;TZID=Europe/Bucharest:20190316T203000
DTSTAMP:20260422T115352
CREATED:20190217T173350Z
LAST-MODIFIED:20190226T175348Z
UID:24623-1552762800-1552768200@ghidlocal.com
SUMMARY:O noapte pe dos - de Xavier Durringer\, Oradea
DESCRIPTION:„Am avut senzația că mă aflu într-o expoziție a sculptorului Ion Nicodim\, mă refer la inimile lui uriașe\, care terminau\, ca niște capete\, socluri înalte\, rotunjite. Așa și personajele noastre.” (Ana Barton) \nO NOAPTE PE DOS de Xavier Durringer\nCu: Marcela Motoc și George Constantinescu\nTraducerea: Marcela Motoc\nRegia: Tudor Tepeneag\nFoto și grafică afiș: Romulus Boicu \nO prostituată și clientul ei. Doi oameni care nu se cunosc se află într-o cameră\, pentru o noapte de amor. Cea mai veche întâlnire din lume; fără un “mâine”\, în majoritatea cazurilor. Însă la capătul nopții\, totul ia o întorsătură neașteptată. Tranzacția nu este cea pe care o bănuim. O poveste intimă străpunge suprafața violentă și sordidă a schimbului și caută un epilog dincolo de “a doua zi”. \n***Selectat la UNDERCLOUD – Festival de Teatru Independent de Orice\, 2017\n***Selectat la Comic 7 B – Festival de teatru\, 2017 \nSpectacolul nu este recomandat persoanelor sub 16 ani. \nBilete: https://www.mystage.ro/spectacole/o-noapte-pe-dos-de-xavier-durringer-oradea-1556 \nhttps://www.facebook.com/events/497312770793213/ \n
URL:https://ghidlocal.com/oradea/eveniment/o-noapte-pe-dos-de-xavier-durringer-oradea/
LOCATION:Studio Act\, Studio Act
CATEGORIES:Teatru
ATTACH;FMTTYPE=image/jpeg:https://cdn.cluj.com/ghidlocalcom/sites/2/2019/02/50816715_2041022519345707_5721534039051993088_n.jpg
END:VEVENT
END:VCALENDAR