BEGIN:VCALENDAR
VERSION:2.0
PRODID:-//Oradea - ECPv5.1.1//NONSGML v1.0//EN
CALSCALE:GREGORIAN
METHOD:PUBLISH
X-WR-CALNAME:Oradea
X-ORIGINAL-URL:https://ghidlocal.com/oradea
X-WR-CALDESC:Events for Oradea
BEGIN:VTIMEZONE
TZID:Europe/Bucharest
BEGIN:DAYLIGHT
TZOFFSETFROM:+0200
TZOFFSETTO:+0300
TZNAME:EEST
DTSTART:20190331T010000
END:DAYLIGHT
BEGIN:STANDARD
TZOFFSETFROM:+0300
TZOFFSETTO:+0200
TZNAME:EET
DTSTART:20191027T010000
END:STANDARD
END:VTIMEZONE
BEGIN:VEVENT
DTSTART;TZID=Europe/Bucharest:20190131T163000
DTEND;TZID=Europe/Bucharest:20190131T183000
DTSTAMP:20260425T022224
CREATED:20190124T140458Z
LAST-MODIFIED:20190130T120648Z
UID:24378-1548952200-1548959400@ghidlocal.com
SUMMARY:O carte pe lună Oradea #11
DESCRIPTION:De sărbători\, clubul O carte pe lună Oradea ia o scurtă pauză…  \nNe revedem cu forțe proaspete în ianuarie\, când citim cu toții aceeași carte! Acum\, de ce am ales SAPIENS. O SCURTĂ ISTORIE A OMENIRII? \nRăspunsul e unul simplu: pentru că la fiecare întâlnire\, cineva a adus aminte de această carte. Cineva a recomandat-o. Cineva a numit-o cartea anului. Cineva a zis că i-a dat nenumărate momente de „aha”. \nDacă vrei să ne cunoști\, vino și tu la întâlnirea de joi\, 31 ianuarie\, de la ora 18.30 de la ReWine! Te așteptăm cu bună dispoziție\, chef de povestit despre cărți și bineînțeles\, un vin bun. \nPână atunci\, sărbători fericite și carte diem! 🙂 \nhttps://www.facebook.com/events/289837611674841/ \n
URL:https://ghidlocal.com/oradea/eveniment/o-carte-pe-luna-oradea-11/
LOCATION:ReWine\, ReWine
ATTACH;FMTTYPE=image/jpeg:https://cdn.cluj.com/ghidlocalcom/sites/2/2019/01/O-carte-pe-luna%CC%86-Oradea-11-.jpg
END:VEVENT
END:VCALENDAR