BEGIN:VCALENDAR
VERSION:2.0
PRODID:-//Oradea - ECPv5.1.1//NONSGML v1.0//EN
CALSCALE:GREGORIAN
METHOD:PUBLISH
X-WR-CALNAME:Oradea
X-ORIGINAL-URL:https://ghidlocal.com/oradea
X-WR-CALDESC:Events for Oradea
BEGIN:VTIMEZONE
TZID:Europe/Bucharest
BEGIN:DAYLIGHT
TZOFFSETFROM:+0200
TZOFFSETTO:+0300
TZNAME:EEST
DTSTART:20160327T010000
END:DAYLIGHT
BEGIN:STANDARD
TZOFFSETFROM:+0300
TZOFFSETTO:+0200
TZNAME:EET
DTSTART:20161030T010000
END:STANDARD
END:VTIMEZONE
BEGIN:VEVENT
DTSTART;TZID=Europe/Bucharest:20161204T180000
DTEND;TZID=Europe/Bucharest:20161204T200000
DTSTAMP:20260422T084457
CREATED:20161122T094256Z
LAST-MODIFIED:20161122T094256Z
UID:5476-1480874400-1480881600@ghidlocal.com
SUMMARY:Noi umblăm a corinda și cu drag a vă cânta!
DESCRIPTION:Duminică\, 4 decembrie\, ora 18:00\, va avea loc un concert de Crăciun\, intitulat: Noi umblăm a corinda și cu drag a vă cânta!\nConcertul Noi umblăm a corinda și cu drag a vă cânta! va avea loc la Casa de Cultură a Sindicatelor din Oradea. Invitatul special al acestui eveniment este Iuliana Tudor. Iar\, din program vor face parte: \n\nFlorentina și Petre Giurgi și Ansamblul Național „Transilvania” – Baia Mare\nAdrian Stanca și Lilian Laichici și Ansamblul Profesionist „Banatul” – Timișoara\nDan Dobos și Ansamblul „Cordăreanca” – Botoșani\nCorul „Diacon Nicolae Firu” al Liceului Ortodox „Episcop Roman Ciorogariu”\, dirijor Ștefan Lacatoș\nGrupul vocal „Lioara”\, prof. Antonela Ferche Buțiu\, și Ansamblul „Vetre Bihorene” al Școlii de Arte „Francisc Hubic”\, coregraf profesor Dumitru Cora\nAcompaniază orchestra „Rapsodia Bihoreană”\, dirijor prof Liviu Buțiu\n\nPreț Bilet: 20 lei \n*Biletele se pun în vânzare din 23 noiembrie\, între orele 10:00 – 18:00\, la sediul Școlii de Arta „Francisc Hubic” \n  \n
URL:https://ghidlocal.com/oradea/eveniment/noi-umblam-a-corinda-si-cu-drag-a-va-canta/
LOCATION:Casa de Cultură a Sindicatelor Oradea\, Piața 1 Decembrie\, numărul 1\, Oradea\, Bihor\, 410068\, România
CATEGORIES:Concerte
ATTACH;FMTTYPE=image/jpeg:https://cdn.cluj.com/ghidlocalcom/sites/2/2016/11/Concert_extraordinar_de_craciun_casa_de_cultura_a_sindicatelor.jpg
ORGANIZER;CN="Consiliul%20Jude%C5%A3ean%20Bihor":MAILTO:registratura@cjbihor.ro
END:VEVENT
END:VCALENDAR