BEGIN:VCALENDAR
VERSION:2.0
PRODID:-//Oradea - ECPv5.1.1//NONSGML v1.0//EN
CALSCALE:GREGORIAN
METHOD:PUBLISH
X-WR-CALNAME:Oradea
X-ORIGINAL-URL:https://ghidlocal.com/oradea
X-WR-CALDESC:Events for Oradea
BEGIN:VTIMEZONE
TZID:Europe/Bucharest
BEGIN:DAYLIGHT
TZOFFSETFROM:+0200
TZOFFSETTO:+0300
TZNAME:EEST
DTSTART:20170326T010000
END:DAYLIGHT
BEGIN:STANDARD
TZOFFSETFROM:+0300
TZOFFSETTO:+0200
TZNAME:EET
DTSTART:20171029T010000
END:STANDARD
END:VTIMEZONE
BEGIN:VEVENT
DTSTART;TZID=Europe/Bucharest:20171130T180000
DTEND;TZID=Europe/Bucharest:20171130T230000
DTSTAMP:20260420T160536
CREATED:20171127T122631Z
LAST-MODIFIED:20171130T122624Z
UID:19120-1512064800-1512082800@ghidlocal.com
SUMMARY:Noaptea Cititorilor: dăruiește mai mult cheltuind mai puțin
DESCRIPTION:Vă așteptăm la librăria și cafeneaua R&R de pe Str. Republicii nr. 22\, între orele 18:00-23:00\, la ultima ediție Noaptea Cititorilor înainte de Crăciun: un eveniment prin care sărbătorim lunar cititorii și cărțile\, oferind:\n*CEL PUȚIN 20% REDUCERE LA TOATE CĂRȚILE ?\n*10% REDUCERE LA CONSUMAȚIA DE CAFENEA ☕??\n*CĂRȚI GRATUITE pe care le găsiți în suportul special de lângă casa de marcat. ? \nSuplimentar\, în cadrul acestei ediții\, vă pregătim numeroase pachete și idei de cadouri\, vă așteptăm într-o atmosferă specială de sărbătoare și vă îndemnăm să susțineți inițiativa celor de la Good Life Performers: Cărți în dar: dichisim cadouri\, alegem cărți și facem fapte bune. Este vorba atât de o campanie de strângere de fonduri\, cât și de una de promovare a lecturii\, doritorii putând face donații în bani în schimbul cărora își pot alege cărți dintr-o selecție variată de titluri\, își pot împacheta cadourile și pot cere consiliere în ceea ce privește alegerea celor mai potrivite cadouri pentru a fi oferite drept cadou celor dragi.  \nVă așteptăm la o ediție specială Noaptea Cititorilor! ?? \n
URL:https://ghidlocal.com/oradea/eveniment/noaptea-cititorilor-daruieste-mai-mult-cheltuind-mai-putin/
LOCATION:R&R bookstores & coffee houses\, Oradea-Mare\, 410025\, RO
CATEGORIES:Cultural
ATTACH;FMTTYPE=image/jpeg:https://cdn.cluj.com/ghidlocalcom/sites/2/2017/11/19120_image_23844699_1571569862910639_242672042721796158_n.jpg
END:VEVENT
END:VCALENDAR