BEGIN:VCALENDAR
VERSION:2.0
PRODID:-//Oradea - ECPv5.1.1//NONSGML v1.0//EN
CALSCALE:GREGORIAN
METHOD:PUBLISH
X-WR-CALNAME:Oradea
X-ORIGINAL-URL:https://ghidlocal.com/oradea
X-WR-CALDESC:Events for Oradea
BEGIN:VTIMEZONE
TZID:Europe/Bucharest
BEGIN:DAYLIGHT
TZOFFSETFROM:+0200
TZOFFSETTO:+0300
TZNAME:EEST
DTSTART:20160327T010000
END:DAYLIGHT
BEGIN:STANDARD
TZOFFSETFROM:+0300
TZOFFSETTO:+0200
TZNAME:EET
DTSTART:20161030T010000
END:STANDARD
BEGIN:DAYLIGHT
TZOFFSETFROM:+0200
TZOFFSETTO:+0300
TZNAME:EEST
DTSTART:20170326T010000
END:DAYLIGHT
BEGIN:STANDARD
TZOFFSETFROM:+0300
TZOFFSETTO:+0200
TZNAME:EET
DTSTART:20171029T010000
END:STANDARD
END:VTIMEZONE
BEGIN:VEVENT
DTSTART;TZID=Europe/Bucharest:20161231T210000
DTEND;TZID=Europe/Bucharest:20170101T090000
DTSTAMP:20260420T102022
CREATED:20161219T083530Z
LAST-MODIFIED:20161219T083607Z
UID:6295-1483218000-1483261200@ghidlocal.com
SUMMARY:New Year's Eve Craze la Moszkva
DESCRIPTION:Triple party de revelion la Moszkva: trei săli\, trei genuri de muzică într-o singură locație!\nCare sunt cele trei săli dedicate petrecerii de revelion de la Moszkva? Iată-le enumerate mai jos… \n\nSala de cafenea: Evergreen\nSala mare: Dampezz & skar (Electro Nights)\nApple Room: Underground electro (mai multe informații în curând)\n\nRezervarea de masă la 75 ron/persoană\, din care 60 ron sunt consumabile la bar. Numărul de locuri este limitat. Biletele pot fi cumpărate la bar\, cu acesta vă asigurați locul la masă. Biletul de intrare fără rezervare este la 15 ron. \nPe parcursul serii se pot aduce și consuma orice fel de mâncăruri. Porțile se deschid la ora 21:00\, muzica și petrecerea țin până dimineața 🙂 \n
URL:https://ghidlocal.com/oradea/eveniment/new-years-eve-craze-la-moszkva/
LOCATION:Moszkva Cafe\,  Str.Moscovei\, nr. 8\, Oradea\, Bihor\, România
CATEGORIES:Petrecere
ATTACH;FMTTYPE=image/jpeg:https://cdn.cluj.com/ghidlocalcom/sites/2/2016/12/New_yeas_s_eve_craze_at_moszkva.jpg
ORGANIZER;CN="Moszkva%20Cafe":MAILTO:moszkvapr@gmail.com
END:VEVENT
END:VCALENDAR