BEGIN:VCALENDAR
VERSION:2.0
PRODID:-//Oradea - ECPv5.1.1//NONSGML v1.0//EN
CALSCALE:GREGORIAN
METHOD:PUBLISH
X-WR-CALNAME:Oradea
X-ORIGINAL-URL:https://ghidlocal.com/oradea
X-WR-CALDESC:Events for Oradea
BEGIN:VTIMEZONE
TZID:Europe/Bucharest
BEGIN:DAYLIGHT
TZOFFSETFROM:+0200
TZOFFSETTO:+0300
TZNAME:EEST
DTSTART:20180325T010000
END:DAYLIGHT
BEGIN:STANDARD
TZOFFSETFROM:+0300
TZOFFSETTO:+0200
TZNAME:EET
DTSTART:20181028T010000
END:STANDARD
END:VTIMEZONE
BEGIN:VEVENT
DTSTART;TZID=Europe/Bucharest:20180208T200000
DTEND;TZID=Europe/Bucharest:20180208T220000
DTSTAMP:20260420T071653
CREATED:20180108T121417Z
LAST-MODIFIED:20180208T122829Z
UID:20022-1518120000-1518127200@ghidlocal.com
SUMMARY:Moon Museum - Lansare de album / Oradea
DESCRIPTION:Moon Museum este un proiect înființat de Oigăn – Eugen Nuțescu (Kumm\, Robin and The Backstabbers) căruia i s-au alăturat\, în timp\, Ami Crișan și Mihai Grama la voce\, mai apoi Andrei Robin Proca\, Vladimir Proca (ambii membrii RatB) și Dan Georgescu (almadeer\, Byron).    \n“From No To Nowhere” – noul album Moon Museum – este compus și înregistrat pe parcursul ultimilor doi ani și este rezultatul colaborării între 48 de degete\, 12 urechi și 5 voci la care se adaugă\, ocazional\, invitații: Mihai Iordache (sax)\, Andrei Fântână (clarinet) și Dominic Csergő (vibrafon).  \nLa final de decembrie trupa a lansat single-ul “Vârful cu Dor”\, prima piesă MM cu versuri în limba română\, nominalizata de Radio Guerrilla pe locul 2 în topul pieselor românești și deținătoare de videoclip cu poveste. \nConcertul face parte din turneul de lansare a albumului “From No To Nowhere”.\nBiletele s-au pus în vânzare la bar\, în Moszkva Kávézó şi costă 20 lei în avans sau 25 de lei în seara evenimentului la intrare.\nhttps://www.biletmaster.ro/ron/Event/47005055/Moon-Museum-From-No-To-Nowhere\nhttps://www.iabilet.ro/bilete-lansare-album-moon-museum-oradea-32193/\nInformații la tel: 0740527955 \n
URL:https://ghidlocal.com/oradea/eveniment/moon-museum-live-oradea/
LOCATION:Moszkva Kávézó\, str. Moscovei no.8\, Oradea\, 410001\, RO
CATEGORIES:Concerte
ATTACH;FMTTYPE=image/jpeg:https://cdn.cluj.com/ghidlocalcom/sites/2/2018/01/20022_image_26233659_1697578300307093_6834562631757015621_o.jpg
END:VEVENT
END:VCALENDAR