BEGIN:VCALENDAR
VERSION:2.0
PRODID:-//Oradea - ECPv5.1.1//NONSGML v1.0//EN
CALSCALE:GREGORIAN
METHOD:PUBLISH
X-WR-CALNAME:Oradea
X-ORIGINAL-URL:https://ghidlocal.com/oradea
X-WR-CALDESC:Events for Oradea
BEGIN:VTIMEZONE
TZID:Europe/Bucharest
BEGIN:DAYLIGHT
TZOFFSETFROM:+0200
TZOFFSETTO:+0300
TZNAME:EEST
DTSTART:20160327T010000
END:DAYLIGHT
BEGIN:STANDARD
TZOFFSETFROM:+0300
TZOFFSETTO:+0200
TZNAME:EET
DTSTART:20161030T010000
END:STANDARD
END:VTIMEZONE
BEGIN:VEVENT
DTSTART;TZID=Europe/Bucharest:20160609T210000
DTEND;TZID=Europe/Bucharest:20160609T230000
DTSTAMP:20260422T183338
CREATED:20160602T104827Z
LAST-MODIFIED:20160602T104925Z
UID:771-1465506000-1465513200@ghidlocal.com
SUMMARY:Magician vs Magician
DESCRIPTION:Încă un show de magie marca Eduard și Bianca este pe cale să ne surprindă plăcut!\nJoi\, 9 iunie 2016\, va avea loc Magician vs Magician. Începând cu orele 20:00\, întreg Urban Place va fi învăluit de spectacolul original\, amuzant și\, bineînțeles\, magic al celor doi iluzioniști. \nDupă cum ne-am obișnuit deja cu interesantul cuplu magic\, premiați fiind în mai multe rânduri la diverse concursuri de magie naționale și internaționale\, Eduard & Bianca își declară „război” iar lupta va avea loc în fața noastră\, a publicului. \nFIE CA CEL MAI BUN MAGICIAN SĂ CÂȘTIGE! \nPentru bilete\, rezervări și/sau alte informații sunați la 0740 527 955\, lăsați un mesaj pe pagina evenimentului sau mergeți direct la barul din Urban Place. \nPreț bilet: 15 lei \n*Spectacol nerecomandat copiilor sub 14 ani \n
URL:https://ghidlocal.com/oradea/eveniment/magician-vs-magician/
LOCATION:Urban Place\, Tudor Vladimirescu nr. 75\, Oradea\, 410203\, Romania
CATEGORIES:Divertisment
ATTACH;FMTTYPE=image/jpeg:https://cdn.cluj.com/ghidlocalcom/sites/2/2016/06/Magician_vs_Magician_Eduard_si_Bianca.jpg
END:VEVENT
END:VCALENDAR