BEGIN:VCALENDAR
VERSION:2.0
PRODID:-//Oradea - ECPv5.1.1//NONSGML v1.0//EN
CALSCALE:GREGORIAN
METHOD:PUBLISH
X-WR-CALNAME:Oradea
X-ORIGINAL-URL:https://ghidlocal.com/oradea
X-WR-CALDESC:Events for Oradea
BEGIN:VTIMEZONE
TZID:Europe/Bucharest
BEGIN:DAYLIGHT
TZOFFSETFROM:+0200
TZOFFSETTO:+0300
TZNAME:EEST
DTSTART:20190331T010000
END:DAYLIGHT
BEGIN:STANDARD
TZOFFSETFROM:+0300
TZOFFSETTO:+0200
TZNAME:EET
DTSTART:20191027T010000
END:STANDARD
END:VTIMEZONE
BEGIN:VEVENT
DTSTART;TZID=Europe/Bucharest:20190124T150000
DTEND;TZID=Europe/Bucharest:20190124T180000
DTSTAMP:20260424T114630
CREATED:20190124T140451Z
LAST-MODIFIED:20190124T140624Z
UID:24332-1548342000-1548352800@ghidlocal.com
SUMMARY:Mafeszt
DESCRIPTION:HU//RO:? A Szigligeti Színház ad otthont a Magyar Színházi Szövetség találkozójának 2019-ben! | Teatrul „Szigligeti” din Oradea organizează festivalul MAFESZT în 2019. ? \n1️⃣ fesztivál | 1️⃣ festival? 5 nap | 5 zile? 6 társulat | 6 companii(Aradi Kamaraszínház\, Csíki Játékszín\, Harag György Társulat\,Temesvári Csiky Gergely Állami Magyar Színház\, Tomcsa Sándor Színház\, Szigligeti Színház Nagyvárad)\,? 14 előadás | 14 spectacole____________________________________________________ \n? ELŐADÁSPROGRAM | PROGRAMUL SPECTACOLELOR ? \nJanuár 22. | kedd | 17:00 | Szigligeti StúdióMarți | 22 ianuarie | 17:00 | Studioul Szigligeti? IDEGEN | NECUNOSCUTULNagyvárad Táncegyüttes | Ansamblul Nagyvárad \nJanuár 22. | kedd | 19:00 | NagyteremMarți | 22 ianuarie | 19:00 | Sala MarePierre Barillet – Jean Pierre Grédy – Nádas Gábor – Szenes Iván? A KAKTUSZ VIRÁGA | FLOARE DE CACTUSCsíki Játékszín | Teatrul Miercurea Ciuc \nJanuár 23. | szerda | 11:00 | Árkádia Színház23 ianuarie | miercuri | 11:00 | Sala ArcadiaFodor Sándor – Garaczi László? CSIPIKE A GONOSZ TÖRPE  | CIPI\, PITICUL CEL FIOROSCsíki Játékszín | Teatrul Miercurea Ciuc \nJanuár 23. | szerda | 17:00 | Szigligeti Stúdió23 ianuarie | miercuri | 17:00 | Studioul SzigligetiNótáros Lajos – Fekete Réka – Tapasztó Ernő? SONKAMENÜETT | MENUET DE ȘUNCĂAradi Kamaraszínház–Békéscsabai Jókai Színház | Teatrul Aradi Kamaraszínház – Teatrul Jókai\, Békéscsaba (HU) \nJanuár 23. | szerda | 19:00 | Nagyterem23 ianuarie | miercuri | 19:00 | Sala MareLars von Trier? A FŐFŐNÖK | ȘEFUL ȘEFILORTomcsa Sándor Színház\, Székelyudvarhely | Teatrul „Tomcsa Sándor” Odorheiu Secuiesc \nJanuár 24. | csütörtök | 10:00 | Árkádia Színház24 ianuarie | joi | 10:00 | Sala Arcadia? RENGETEG ÁBEL ÉS KÜRTŐS KATA | AVENTURILE LUI RENGETEG ÁBEL ȘI KÜRTŐS KATATomcsa Sándor Színház\, Székelyudvarhely | Teatrul „Tomcsa Sándor” Odorheiu Secuiesc \nJanuár 24. | csütörtök | 17:00 | Szigligeti Stúdió24 ianuarie | joi | 17:00 | Studioul SzigligetiA. P. Csehov? APÁTLANUL | PLATONOVSzigligeti Színház Nagyvárad – Szigligeti Társulat | Teatrul Szigligeti Oradea – Trupa Szigligeti  \nJanuár 25. | péntek | 17:00 | Szigligeti Stúdió25 ianuarie | vineri | 17:00 | Studioul SzigligetiHatházi András – Tom Dugdale? TIZENÖT PRÓBÁLKOZÁS A SZÍNÉSZETRE | CINCISPREZECE ÎNCERCĂRI PENTRU ACTORIESzatmárnémeti Északi Színház – Harag György Társulat | Teatrul de Nord Satu Mare – Trupa Harag György \nJanuár 25. | péntek | 19:00 | Nagyterem25 ianuarie | vineri | 19:00 | Sala Mare? RABENTHALTemesvári Csiky Gergely Állami Magyar Színház | Teatrul Maghiar de Stat „Csiky Gergely” Timișoara \nJanuár 26. | szombat | 11:00 | Árkádia Színház26 ianuarie | sâmbătă | 11:00 | Sala ArcadiaH. C. Andersen? HÓKIRÁLYNŐ | CRĂIASA ZĂPEZIITemesvári Csiky Gergely Állami Magyar Színház | Teatrul Maghiar de Stat „Csiky Gergely” Timișoara \nJanuár 26. | szombat | 17:00 | Nagyterem26 ianuarie | sâmbătă | 17:00 | Sala MareLionel Bart? OLIVÉR!Szigligeti Színház Nagyvárad – Szigligeti Társulat | Teatrul Szigligeti Oradea – Trupa Szigligeti  \nJanuár 26. | szombat | 20:00 | Nagyterem26 ianuarie | sâmbătă | 20:00 | Sala Mare? BURUNDANGA\, AVAGY A MASZK\, A BASZK ÉS A CUCC | BURUNDANGA\, SAU MASCA\, BASCII ȘI MARFAHarag György Társulat – Csiky Gergely Állami Magyar Színház | Trupa Harag György – Teatrul Maghiar de Stat „Csiky Gergely”______________________________________________________ \n? JEGYEK | BILETE ? \nNagyszínpadi és stúdiótermi előadások | Spectacole format sala mare și studioTeljes ár | Preț întreg: 25 RONKedvezményes ár | Preț redus: 15 RON \nElőadások az Árkádia Színházban | Spectacole în Sala ArcadiaTeljes ár | Preț întreg: 10 RONKedvezményes ár | Preț redus: 7 RON \n❗❗❗ Jegyek a színház jegypénztárában kaphatók\, hétköznapokon 14-19 óra között\, illetve egy órával az előadások előtt. | Biletele pot fi achiziționate de la agenția de bilete a teatrului\, deschisă zilnic între 14-19\, respectiv cu o oră înaintea spectacolelor. ❗❗❗ \nhttps://www.facebook.com/events/280688712639559/ \n
URL:https://ghidlocal.com/oradea/eveniment/mafeszt/
LOCATION:Szigligeti Színház Nagyvárad\, Szigligeti Színház Nagyvárad
ATTACH;FMTTYPE=image/png:https://cdn.cluj.com/ghidlocalcom/sites/2/2019/01/Mafeszt.png
END:VEVENT
END:VCALENDAR