BEGIN:VCALENDAR
VERSION:2.0
PRODID:-//Oradea - ECPv5.1.1//NONSGML v1.0//EN
CALSCALE:GREGORIAN
METHOD:PUBLISH
X-WR-CALNAME:Oradea
X-ORIGINAL-URL:https://ghidlocal.com/oradea
X-WR-CALDESC:Events for Oradea
BEGIN:VTIMEZONE
TZID:Europe/Bucharest
BEGIN:DAYLIGHT
TZOFFSETFROM:+0200
TZOFFSETTO:+0300
TZNAME:EEST
DTSTART:20160327T010000
END:DAYLIGHT
BEGIN:STANDARD
TZOFFSETFROM:+0300
TZOFFSETTO:+0200
TZNAME:EET
DTSTART:20161030T010000
END:STANDARD
END:VTIMEZONE
BEGIN:VEVENT
DTSTART;TZID=Europe/Bucharest:20160909T190000
DTEND;TZID=Europe/Bucharest:20160911T230000
DTSTAMP:20260424T055737
CREATED:20160905T061020Z
LAST-MODIFIED:20160905T061020Z
UID:3117-1473447600-1473634800@ghidlocal.com
SUMMARY:Lokal Fest Oradea
DESCRIPTION:În perioada 9 – 11 septembrie\, se va desfășura Lokal Fest – un eveniment prin intermediul căruia se încearcă oferirea unui „cadru plăcut tuturor localnicilor care vor să-și vadă orașul ca o comunitate”.\nLokal Fest va fi însoțit de „atmosfera de târg asigurată de bunătățile de casă\, dar și de producătorii de vin sau bere artizanală”. \nProgramului evenimentului este următorul: \n\nVineri\, 9 septembrie \n\n18:00 Proiecție Filme Scurte Artizani 1\n19:00 Topographer Muzică și Vizual (Arad)\n20:00 Concert Ghost Toast (Debrecen)\n\n\n\n\n\nSâmbătă\, 10 septembrie \n\n18:00 Proiecție Filme Scurte Artizani 2\n19:00 Spectacol de teatru H U O O O O O ! ! ! at Lokal Fest (Auăleu Timișoara)\n20:00 Concert\n\n\n\n\n\nDuminică\, 11 septembrie\n\nWorkshop\nPrograme pentru copii\n\n\n\nVă dorim un weekend frumos! \nInformații preluate de AICI \n
URL:https://ghidlocal.com/oradea/eveniment/lokal-fest-oradea/
LOCATION:Lokal Oradea\, Strada Aurel Lazăr\, numărul 1\, Oradea\, Bihor\, România
CATEGORIES:Festival
ATTACH;FMTTYPE=image/jpeg:https://cdn.cluj.com/ghidlocalcom/sites/2/2016/09/Lokal_Fest_9_11_septembrie_2016.jpg
END:VEVENT
END:VCALENDAR