BEGIN:VCALENDAR
VERSION:2.0
PRODID:-//Oradea - ECPv5.1.1//NONSGML v1.0//EN
CALSCALE:GREGORIAN
METHOD:PUBLISH
X-WR-CALNAME:Oradea
X-ORIGINAL-URL:https://ghidlocal.com/oradea
X-WR-CALDESC:Events for Oradea
BEGIN:VTIMEZONE
TZID:Europe/Bucharest
BEGIN:DAYLIGHT
TZOFFSETFROM:+0200
TZOFFSETTO:+0300
TZNAME:EEST
DTSTART:20160327T010000
END:DAYLIGHT
BEGIN:STANDARD
TZOFFSETFROM:+0300
TZOFFSETTO:+0200
TZNAME:EET
DTSTART:20161030T010000
END:STANDARD
END:VTIMEZONE
BEGIN:VEVENT
DTSTART;TZID=Europe/Bucharest:20160901T170000
DTEND;TZID=Europe/Bucharest:20160901T190000
DTSTAMP:20260420T031442
CREATED:20160829T054624Z
LAST-MODIFIED:20160829T054624Z
UID:2999-1472749200-1472756400@ghidlocal.com
SUMMARY:L'écume des jours (2013) - Spuma zilelor
DESCRIPTION:Joi\, 1 septembrie\, începând cu ora 16:00\, Cineclub Marienbad va oferi\, celor prezenți\, posibilitatea de a viziona filmul L’écume des jours (2013) – Spuma zilelor.\n„…Despre Spuma zilelor\, romanul lui Boris Vian pus pe film de Michel Gondry\, s-a spus că ar fi de ne-ecranizat. Că proza suprarealistă a lui Vian nu se lasă prinsă și țintuită în fotograme – la fel cum în ziua nunții sale cu Chloe\, cravata lui Colin nu stă locului nici pironită în cuie – e lesne pentru oricine a citit măcar un fragment din roman. Sau\, dacă nu ai citit\, imaginează-ți o lume în care picioarele meselor poartă patine cu rotile\, soneria coboară din perete pentru a te anunța că cineva sună la ușă\, toaleta de dimineață include un bărbierit și un tuns de pleoape\, pantofii au o viață proprie\, iar razele de soare care intră pe fereastră se transformă în corzi de chitară la care cântă un șoarece cu chip de om care locuiește în casa ta. Pe urmă\, încearcă să pui pagina asta și restul de două sute și ceva\, în imagini\, cât să încapă în fotogramele unui film cu durata de două ore și un pic\, făcând din ele angrenaje delicate în mecanica complicată a unei povești de dragoste despre care s-a spus că ar fi cea mai sfâșietoare din literatura contemporană…” – sursă text AICI. \nRegia: Michel Gondry \nScenariul: Luc Bossi\, Michel Gondry \nImagine: Christophe Beaucarne montaj: Marie-Charlotte Moreau \nDistribuţie: Audrey Tautou\, Romain Duris\, Omar Sy \nDurata: 131 min. \nVă dorim vizionare plăcută! \n
URL:https://ghidlocal.com/oradea/eveniment/lecume-des-jours-2013-spuma-zilelor/
LOCATION:Biblioteca Județeană „Gheorghe Șincai”\, Str. Armatei Române\, nr. 1/A\, Oradea\, Bihor\, România
CATEGORIES:Film
ATTACH;FMTTYPE=image/jpeg:https://cdn.cluj.com/ghidlocalcom/sites/2/2016/08/Spuma_zeilor_Cineclub_Marienbad_Biblioteca_Judeteana_Oradea.jpg
ORGANIZER;CN="Cineclub%20Marienbad":MAILTO: cineclubmarienbad@yahoo.ro
END:VEVENT
END:VCALENDAR