BEGIN:VCALENDAR
VERSION:2.0
PRODID:-//Oradea - ECPv5.1.1//NONSGML v1.0//EN
CALSCALE:GREGORIAN
METHOD:PUBLISH
X-WR-CALNAME:Oradea
X-ORIGINAL-URL:https://ghidlocal.com/oradea
X-WR-CALDESC:Events for Oradea
BEGIN:VTIMEZONE
TZID:Europe/Bucharest
BEGIN:DAYLIGHT
TZOFFSETFROM:+0200
TZOFFSETTO:+0300
TZNAME:EEST
DTSTART:20160327T010000
END:DAYLIGHT
BEGIN:STANDARD
TZOFFSETFROM:+0300
TZOFFSETTO:+0200
TZNAME:EET
DTSTART:20161030T010000
END:STANDARD
END:VTIMEZONE
BEGIN:VEVENT
DTSTART;TZID=Europe/Bucharest:20161216T180000
DTEND;TZID=Europe/Bucharest:20161216T210000
DTSTAMP:20260420T110317
CREATED:20161212T094240Z
LAST-MODIFIED:20161212T094240Z
UID:6017-1481911200-1481922000@ghidlocal.com
SUMMARY:Lansare de carte - Ion Stratan de Mihai Vieru
DESCRIPTION:Vineri\, 16 decembrie\, ora 18:00\, va avea loc o lansare de carte la Butoiul de aur: Ion Stratan de Mihai Vierul.\n„Ion Stratan: despre poezia lui Nino” este o lucrare monografică (la originile ei\, teză de doctorat)\, purtând semnătura poetului și universitarului Mihai Vieru. \n„Poetul și profesorul universitar Mihai Vieru ne pune în fața unui studiu atipic. Nu e doar o analiză a operei lui Ion Stratan\, ci și o pledoarie\, într-o manieră personală\, aproape excentrică. (…) Mihai Vieru e o personalitate de mare mobilitate\, cu inepuizabile rezerve de entuziasm și\, înainte de orice altceva\, cu o veritabilă devoțiune față de poezie\, pe care o practică în felul său\, jucăuș\, experimentalist. Dacă ținem cont și de proveniența sa ploieșteană (de unde a migrat tocmai către Oradea)\, înțelegem ușor afinitatea față de Ion Stratan\, și el un poet-histrion din aceeași urbe caragialiană\, în care și-a trăit o bună parte din viață.” (Ion Bogdan Lefter) \nModeratori: Ioan Moldovan\, Dan H. Popescu \nInformații preluate de AICI. \n
URL:https://ghidlocal.com/oradea/eveniment/lansare-de-carte-ion-stratan-de-mihai-vieru/
LOCATION:Butoiul de Aur\, Strada Iosif Vulcan\, numărul 1\, Oradea\, Bihor\, România
CATEGORIES:Cultural
ATTACH;FMTTYPE=image/jpeg:https://cdn.cluj.com/ghidlocalcom/sites/2/2016/12/lansare_de_carte_ion_stratan_de_mihai_vieru_oradea.jpg
END:VEVENT
END:VCALENDAR