BEGIN:VCALENDAR
VERSION:2.0
PRODID:-//Oradea - ECPv5.1.1//NONSGML v1.0//EN
CALSCALE:GREGORIAN
METHOD:PUBLISH
X-WR-CALNAME:Oradea
X-ORIGINAL-URL:https://ghidlocal.com/oradea
X-WR-CALDESC:Events for Oradea
BEGIN:VTIMEZONE
TZID:Europe/Bucharest
BEGIN:DAYLIGHT
TZOFFSETFROM:+0200
TZOFFSETTO:+0300
TZNAME:EEST
DTSTART:20180325T010000
END:DAYLIGHT
BEGIN:STANDARD
TZOFFSETFROM:+0300
TZOFFSETTO:+0200
TZNAME:EET
DTSTART:20181028T010000
END:STANDARD
END:VTIMEZONE
BEGIN:VEVENT
DTSTART;TZID=Europe/Bucharest:20180308T200000
DTEND;TZID=Europe/Bucharest:20180309T040000
DTSTAMP:20260422T152918
CREATED:20180307T131503Z
LAST-MODIFIED:20180308T131405Z
UID:21231-1520539200-1520568000@ghidlocal.com
SUMMARY:Ladies Celebration in Lord's
DESCRIPTION:Joi\, 8 Martie\, va asteptam sa sarbatorim impreuna femeile din viata noastra! Am pregatit o petrecere speciala cu aceasta ocazie si nu vrei sa o ratezi! \nIncepand cu orele 21:00 vom oferii la alegere un pahar de Vin Spumant sau un Cosmopolitan Cocktail doamnelor si domnisoarelor care ne vor calca pragul. \nAceasta oferta este disponibila doar persoanelor peste 18 ani in limita stocului disponibil. \n
URL:https://ghidlocal.com/oradea/eveniment/ladies-celebration-in-lords/
LOCATION:Lords Oradea\, Piata Unirii 2-4\, Oradea\, 410072\, RO
CATEGORIES:Petrecere
ATTACH;FMTTYPE=image/jpeg:https://cdn.cluj.com/ghidlocalcom/sites/2/2018/03/21231_image_28619293_1228172363982301_8411425630359883138_o.jpg
END:VEVENT
END:VCALENDAR