BEGIN:VCALENDAR
VERSION:2.0
PRODID:-//Oradea - ECPv5.1.1//NONSGML v1.0//EN
CALSCALE:GREGORIAN
METHOD:PUBLISH
X-WR-CALNAME:Oradea
X-ORIGINAL-URL:https://ghidlocal.com/oradea
X-WR-CALDESC:Events for Oradea
BEGIN:VTIMEZONE
TZID:Europe/Bucharest
BEGIN:DAYLIGHT
TZOFFSETFROM:+0200
TZOFFSETTO:+0300
TZNAME:EEST
DTSTART:20160327T010000
END:DAYLIGHT
BEGIN:STANDARD
TZOFFSETFROM:+0300
TZOFFSETTO:+0200
TZNAME:EET
DTSTART:20161030T010000
END:STANDARD
END:VTIMEZONE
BEGIN:VEVENT
DTSTART;VALUE=DATE:20160620
DTEND;VALUE=DATE:20160713
DTSTAMP:20260420T183756
CREATED:20160616T053650Z
LAST-MODIFIED:20160616T053650Z
UID:1882-1466384400-1468285199@ghidlocal.com
SUMMARY:La un pahar de vin exclusiv feminin
DESCRIPTION:Doamnelor\, domnișoarelor\, sunteți invitate la un pahar de vin unde vor participa doar reprezentantele sexului frumos.\nDespre ce este vorba mai exact? Despre un curs care se va întinde pe durata a patru zile\, începând cu data de 20 iunie 2016. Tematicile abordate la un pahar de vin sunt următoarele: \nTema 1: Asocieri fericite între trup și suflet. (20.06.2016)\nTema 2: Cum citim senzorial un vin. (27.06.2016)\nTema 3: Accesorii elegante de servire și consum (4.07.2016)\nTema 4: Vinul cadou; intre valoare și moda. (11.07.2016) \n„Vor fi citite câte cinci vinuri pe curs\, din gama: albe\, rose\, roșii și spumante\, alături de Prof. Dorin Popa” – sursă text AICI. \n  \n
URL:https://ghidlocal.com/oradea/eveniment/la-un-pahar-de-vin-exclusiv-feminin/
LOCATION:ReWine Bar\, Str. Republicii\, Nr. 31\, Oradea-Mare\, 410033\, Romania
ATTACH;FMTTYPE=image/png:https://cdn.cluj.com/ghidlocalcom/sites/2/2016/06/La_un_Pahar_de_vin_exclusiv_feminin_Oradea.png
END:VEVENT
END:VCALENDAR