BEGIN:VCALENDAR
VERSION:2.0
PRODID:-//Oradea - ECPv5.1.1//NONSGML v1.0//EN
CALSCALE:GREGORIAN
METHOD:PUBLISH
X-WR-CALNAME:Oradea
X-ORIGINAL-URL:https://ghidlocal.com/oradea
X-WR-CALDESC:Events for Oradea
BEGIN:VTIMEZONE
TZID:Europe/Bucharest
BEGIN:DAYLIGHT
TZOFFSETFROM:+0200
TZOFFSETTO:+0300
TZNAME:EEST
DTSTART:20190331T010000
END:DAYLIGHT
BEGIN:STANDARD
TZOFFSETFROM:+0300
TZOFFSETTO:+0200
TZNAME:EET
DTSTART:20191027T010000
END:STANDARD
END:VTIMEZONE
BEGIN:VEVENT
DTSTART;TZID=Europe/Bucharest:20190125T180000
DTEND;TZID=Europe/Bucharest:20190125T210000
DTSTAMP:20260425T012818
CREATED:20190124T140452Z
LAST-MODIFIED:20190124T141250Z
UID:24340-1548439200-1548450000@ghidlocal.com
SUMMARY:Kiscsillag koncert - Nagyvárad // Moszkva Kávézó
DESCRIPTION:Ne bújjatok annyira bonyolult helyekre el…január 25.-én! 🙂Hiszen Kiscsillag koncert lesz Nagyváradon\, a Moszkvában. \nA Kiscsillag zenekar\, amely 2005-ös megalakulásakor hobbi garázszenekarként definiálta magát az akkor még aktív Kispál és a Borz árnyékában\, mára Magyarország elsőszámú art-rock zenekarának tekinthető. A mindig gitáralapú\, de számos eltérő stílusjegyet magába olvasztó dalok\, a lendületes előadásmód\, Lovasi emblematikus szövegvilága és a zenekar utolsó éveiben megjelenő többszólamú énektémák az egyik legkarakteresebb\, legegyedibb hangú\, bátran kísérletező\, évről évre megújuló produkcióvá tették a Kiscsillagot.  \nJegyek:Elővételes: 30 RONHelyszínen: 35 RON \nhttps://www.facebook.com/events/275788799796611/ \n
URL:https://ghidlocal.com/oradea/eveniment/kiscsillag-koncert-nagyvarad-moszkva-kavezo/
LOCATION:Moszkva Kávézó\, Moszkva Kávézó
CATEGORIES:Concerte
ATTACH;FMTTYPE=image/jpeg:https://cdn.cluj.com/ghidlocalcom/sites/2/2019/01/Kiscsillag-koncert-Nagyva%CC%81rad-Moszkva-Ka%CC%81ve%CC%81zo%CC%81.jpg
END:VEVENT
END:VCALENDAR