BEGIN:VCALENDAR
VERSION:2.0
PRODID:-//Oradea - ECPv5.1.1//NONSGML v1.0//EN
CALSCALE:GREGORIAN
METHOD:PUBLISH
X-WR-CALNAME:Oradea
X-ORIGINAL-URL:https://ghidlocal.com/oradea
X-WR-CALDESC:Events for Oradea
BEGIN:VTIMEZONE
TZID:Europe/Bucharest
BEGIN:DAYLIGHT
TZOFFSETFROM:+0200
TZOFFSETTO:+0300
TZNAME:EEST
DTSTART:20180325T010000
END:DAYLIGHT
BEGIN:STANDARD
TZOFFSETFROM:+0300
TZOFFSETTO:+0200
TZNAME:EET
DTSTART:20181028T010000
END:STANDARD
END:VTIMEZONE
BEGIN:VEVENT
DTSTART;TZID=Europe/Bucharest:20180811T140000
DTEND;TZID=Europe/Bucharest:20180813T170000
DTSTAMP:20260420T160338
CREATED:20180807T110841Z
LAST-MODIFIED:20180807T110841Z
UID:23041-1533996000-1534179600@ghidlocal.com
SUMMARY:KaravanAct Festival 2018
DESCRIPTION:KaravanAct Festival 2018 \nFestival de Teatru pe Drum cu următoarea rută:\nOradea: 11-14 august \nA treia ediție a Festivalului KaravanAct organizat de către Asociația Teatrală Shoshin va avea loc între 11-23 august. În acest an\, timp de 13 zile\, festivalul de Teatru pe Drum va aduce 6 trupe din 4 țări în 3 orașe. În total vom vedea 8 spectacole\, iar programul extra va fi concertul experimental Générique (Iszlai József și Albert-Nagy Örs). \nMai multe detalii pe siteul www.shoshintheatre.com.\nFestivalul a fost creat în 2015 cu scopul de a regândi și a revitaliza un obicei străvechi: cel al trupelor ambulante. KaravanAct își propune să fie un organism viu\, care creează un dialog cu publicul\, nu așteaptă să fie căutat\, ci merge la spectatori\, înțelege și integrează mediul înconjurător\, provocând totodată teatrul și concepțiile noastre despre el prin diversitatea spațiilor folosite\, prin varietatea genurilor și tematicilor abordate. \n
URL:https://ghidlocal.com/oradea/eveniment/karavanact-festival-2018/
CATEGORIES:Teatru
ATTACH;FMTTYPE=image/jpeg:https://cdn.cluj.com/ghidlocalcom/sites/2/2018/08/KaravanAct-Festival-2018.jpg
END:VEVENT
END:VCALENDAR