BEGIN:VCALENDAR
VERSION:2.0
PRODID:-//Oradea - ECPv5.1.1//NONSGML v1.0//EN
CALSCALE:GREGORIAN
METHOD:PUBLISH
X-WR-CALNAME:Oradea
X-ORIGINAL-URL:https://ghidlocal.com/oradea
X-WR-CALDESC:Events for Oradea
BEGIN:VTIMEZONE
TZID:Europe/Bucharest
BEGIN:DAYLIGHT
TZOFFSETFROM:+0200
TZOFFSETTO:+0300
TZNAME:EEST
DTSTART:20180325T010000
END:DAYLIGHT
BEGIN:STANDARD
TZOFFSETFROM:+0300
TZOFFSETTO:+0200
TZNAME:EET
DTSTART:20181028T010000
END:STANDARD
END:VTIMEZONE
BEGIN:VEVENT
DTSTART;TZID=Europe/Bucharest:20180823T200000
DTEND;TZID=Europe/Bucharest:20180823T233000
DTSTAMP:20260420T160205
CREATED:20180822T121749Z
LAST-MODIFIED:20180822T121749Z
UID:23367-1535054400-1535067000@ghidlocal.com
SUMMARY:Karaoke Night!
DESCRIPTION:Vocile minunate\, vocile indrăznețe și voia bună\, ne fac serile de Karaoke mai frumoase! \nIn 23 august\, te așteptăm ca de fiecare dată\, cu vocea la tine!\nVino sa ne încânți in felul tău!  \n#blackandwhite #oradea \n
URL:https://ghidlocal.com/oradea/eveniment/karaoke-night-5/
LOCATION:Black & White Oradea\, str. Motilor nr. 2\, 410089\, Oradea
CATEGORIES:Petrecere
ATTACH;FMTTYPE=image/jpeg:https://cdn.cluj.com/ghidlocalcom/sites/2/2018/08/Karaoke-Night-1.jpg
END:VEVENT
END:VCALENDAR