BEGIN:VCALENDAR
VERSION:2.0
PRODID:-//Oradea - ECPv5.1.1//NONSGML v1.0//EN
CALSCALE:GREGORIAN
METHOD:PUBLISH
X-WR-CALNAME:Oradea
X-ORIGINAL-URL:https://ghidlocal.com/oradea
X-WR-CALDESC:Events for Oradea
BEGIN:VTIMEZONE
TZID:Europe/Bucharest
BEGIN:DAYLIGHT
TZOFFSETFROM:+0200
TZOFFSETTO:+0300
TZNAME:EEST
DTSTART:20160327T010000
END:DAYLIGHT
BEGIN:STANDARD
TZOFFSETFROM:+0300
TZOFFSETTO:+0200
TZNAME:EET
DTSTART:20161030T010000
END:STANDARD
END:VTIMEZONE
BEGIN:VEVENT
DTSTART;TZID=Europe/Bucharest:20161030T170000
DTEND;TZID=Europe/Bucharest:20161030T190000
DTSTAMP:20260420T104003
CREATED:20161027T064720Z
LAST-MODIFIED:20161027T064720Z
UID:4634-1477846800-1477854000@ghidlocal.com
SUMMARY:Întâmplări din lumea poveștilor cu Gașca Zurli
DESCRIPTION:Va fi din nou sărbătoare la ERA Park! Cea mai iubită trupă de teatru pentru copii\, Gașca Zurli\, vine duminică\, 30 octombrie\, în centrul comercial\, cu un nou spectacol: Întâmplări din lumea poveștilor.\nEvenimentul se va desfășura începând cu ora 17:00\, sub cupola ERA\, iar pentru o vizibilitate cât mai bună\, va fi reprodus pe un ecran LED gigantic. Ca de obicei\, show-ul va fi unul distractiv\, dar și educativ. De data aceasta\, îndrăgitele personaje Zurli vor aduce la Oradea o poveste despre prietenie\, sinceritate și fair-play\, punând în scenă un spectacol magic al imaginației\, plin de energie și culoare. Adică Zurli… \nÎn episodul „Întâmplări din lumea poveștilor”\, fetița Zurli\, cel mai îndrăgit personaj sută la sută românesc\, va învăța împreună cu cei mici două lecții importante: cea a prieteniei și a promisiunilor respectate. \nLa fel ca altor copilași\, acesteia îi place să se joace\, dar când vine vorba să pună jucăriile la loc\, găsește tot felul de scuze\, apelând la șiretlicuri numai ca să nu își facă ordine între lucruri. Astfel dă de cele mai nepotrivite ajutoare: Lupul din Scufița Roșie și Motanul din Pinocchio\, care o învață cum să ascundă adevărul. \nCopila este salvată\, totuși\, din această situație de către prietenii ei adevărați\, Truli\, Clopoțel\, Zdrăngănel și Yupi\, care nu doar că o vor ajuta să își facă ordine în cameră\, dar îi vor arăta și cât de plăcută poate fi această activitate atunci când ai prietenii aproape și pui suflet în tot ceea ce faci. \nIntrarea este liberă pentru toată lumea\, astfel că iubitorii de distracție sunt așteptați cu mic\, cu mare\, la eveniment! \n
URL:https://ghidlocal.com/oradea/eveniment/intamplari-din-lumea-povestilor-cu-gasca-zurli/
LOCATION:Era Park Oradea\, Calea Aradului\, numărul 62 \, Oradea\, Bihor\, 410223 \, România
CATEGORIES:Activitati pentru copii
ATTACH;FMTTYPE=image/jpeg:https://cdn.cluj.com/ghidlocalcom/sites/2/2016/10/Gasca_Zurile_si_intamplarile_din_lumea_povestilor_Era_Park_Oradea.jpg
ORGANIZER;CN="Era%20Park%20Oradea":MAILTO:marketing@era-oradea.com
END:VEVENT
END:VCALENDAR