BEGIN:VCALENDAR
VERSION:2.0
PRODID:-//Oradea - ECPv5.1.1//NONSGML v1.0//EN
CALSCALE:GREGORIAN
METHOD:PUBLISH
X-WR-CALNAME:Oradea
X-ORIGINAL-URL:https://ghidlocal.com/oradea
X-WR-CALDESC:Events for Oradea
BEGIN:VTIMEZONE
TZID:Europe/Bucharest
BEGIN:DAYLIGHT
TZOFFSETFROM:+0200
TZOFFSETTO:+0300
TZNAME:EEST
DTSTART:20160327T010000
END:DAYLIGHT
BEGIN:STANDARD
TZOFFSETFROM:+0300
TZOFFSETTO:+0200
TZNAME:EET
DTSTART:20161030T010000
END:STANDARD
END:VTIMEZONE
BEGIN:VEVENT
DTSTART;TZID=Europe/Bucharest:20160706T201500
DTEND;TZID=Europe/Bucharest:20160706T221500
DTSTAMP:20260420T050834
CREATED:20160705T073223Z
LAST-MODIFIED:20160705T073223Z
UID:2310-1467836100-1467843300@ghidlocal.com
SUMMARY:Întâlnirea săptămânală Oradea Toastmasters
DESCRIPTION:După cum ne-am obișnuit deja\, săptămânal echipa Toastmasters din Oradea se strânge pentru a-și șlefui abilitățile oratorice deja dobândite sau în curs de dezvoltare.\nDacă totuși există persoane care nu au auzit despre acest proiect\, vă informăm că: „Toastmasters International este o organizație non-profit care gestionează cluburi din întreaga lume\, cu scopul de a-şi ajuta membrii să își dezvolte abilități de vorbit în public și leadership. Primul club Toastmasters a fost înființat în 1924 în Santa Ana\, California\, ajungând în prezent la 14.650 de cluburi localizate în 126 țări și cu 313.000 de membri. Din 1924\, Toastmasters International a ajutat oameni din toate categoriile sociale să devină mai încrezători în faţa unui public. În programul Toastmasters membrii învaţă prezentând discursuri şi dezvoltându-şi abilităţi de leadership într-o atmosferă pozitivă și prietenoasă. Un motiv foarte important al succesului acestui program este acela că membrii îşi evaluează unii altora discursurile\, nu există un instructor. Într-o şedinţă obişnuită\, membrii susţin discursuri improvizate pe baza unei tematici bine stabilite\, conduc întâlnirea şi îşi dezvoltă abilităţi legate de folosirea corectă a limbii\, încadrare în timp şi prezentarea unor evaluări constructive. Membrii învaţă să comunice eficient având ca sprijin manualul de Comunicator Competent (Competent Communication manual) şi dobândesc abilităţi de leadership (conducere) pregătind diverse roluri în şedinţă şi completând manualul de Leader Competent (Competent Leadership)” – sursă text AICI. \nÎntâlnirea săptămânală Oradea Toastmasters din data de 6 iulie 2016\, va avea loc în Sala Bordeaux\, Hotel Ramada Oradea. \nDe asemenea\, pentru ca seara să iasă conform așteptărilor dorite\, rolurile principale vor fi preluate de: \nToastmaster: Lavinia Mihuț\nMaestrul jobenului cu subiecte: Remus Toderici\nEvaluator general: David Ghiță\nVorbitori: Mihai Tenț\, Alex Sălăjan și Ciprian Cornea \n„De ce ne întâlnim în fiecare miercuri?\nClubul #OradeaToastmasters ne oferă tuturor cel mai bun mediu de învățare pozitivă şi de suport reciproc\, prin intermediul căruia fiecare dintre noi îşi dezvoltă abilităţile de comunicare şi de leadership. Toate aceste aspecte duc la dezvoltarea personală\, profesională și la creşterea încrederii în sine” – sursă text AICI. \n\n
URL:https://ghidlocal.com/oradea/eveniment/intalnirea-saptamanala-toastmasters/
LOCATION:Hotel Ramada\, Calea Aradului\, nr. 9\, Oradea\, 401223
CATEGORIES:Workshop
ATTACH;FMTTYPE=image/jpeg:https://cdn.cluj.com/ghidlocalcom/sites/2/2016/07/Intalnirea_saptamanala_Oradea_Toastmasters.jpg
END:VEVENT
END:VCALENDAR