BEGIN:VCALENDAR
VERSION:2.0
PRODID:-//Oradea - ECPv5.1.1//NONSGML v1.0//EN
CALSCALE:GREGORIAN
METHOD:PUBLISH
X-WR-CALNAME:Oradea
X-ORIGINAL-URL:https://ghidlocal.com/oradea
X-WR-CALDESC:Events for Oradea
BEGIN:VTIMEZONE
TZID:Europe/Bucharest
BEGIN:DAYLIGHT
TZOFFSETFROM:+0200
TZOFFSETTO:+0300
TZNAME:EEST
DTSTART:20190331T010000
END:DAYLIGHT
BEGIN:STANDARD
TZOFFSETFROM:+0300
TZOFFSETTO:+0200
TZNAME:EET
DTSTART:20191027T010000
END:STANDARD
END:VTIMEZONE
BEGIN:VEVENT
DTSTART;TZID=Europe/Bucharest:20190424T190000
DTEND;TZID=Europe/Bucharest:20190424T210000
DTSTAMP:20260424T132147
CREATED:20190401T073555Z
LAST-MODIFIED:20190408T071903Z
UID:25068-1556132400-1556139600@ghidlocal.com
SUMMARY:Îndrăgostiții din Ancona
DESCRIPTION:Acţiunea se petrece în orăşelul italian Ancona\, într-o veche piaţetă\, unde apropierea dintre case şi vulcanicul sânge latin fac imposibile păstrarea secretelor. \nCel mai important om din oraş este bogătaşul Tomao Nicomaco\, un Don Juan văduv\, aflat la ultima tinereţe. El are o fată\, Lucia\, bâlbâită şi mioapă pe care doreşte să o mărite cu Giovanni\, proprietarul unei cafenele din apropiere. În vecinătatea lor mai locuieşte şi Agnese\, patroana unui motel\, fosta iubită a lui Don Tomao\, o femeie care ştie tot şi spune tot. Aceleaşi „calităţi” le are şi Dorina-menajera\, amanta lui Don Tomao. Dar inima tinerei Lucia este subjugată de către Luigi\, un cântăreţ ambulant\, îndrăgostit şi el la rândul lui de Lucia. Planul lui Don Tomao de a-şi mărita fata cu Giovani cunoaşte o întorsătură neaşteptată odată cu venirea lui Lucrezio\, student audient\, fost marinar\, suferind din dragoste şi cu gânduri sinucigaşe. Victoria se alătură grupului colorat din Ancona\, o tânără moldoveancă cu puţine cunoştinţe de limba italiană\, cu suflet mare şi viitoare mamă. Tatăl copilului ei este Giovani. Răsturnare de situaţii când cea care era considerată moartă\, Drucilla\, iubita lui Lucrezio\, se reîntoarce în orăşelul natal. Iubirea lor renaşte\, Giovani se eliberează de promisiunea unei căsătorii cu Lucia\, aceasta din urmă nu se mai bâlbâie în prezenţa lui Luigi\, iar Don Tomao\, îndrăgostit de Victoria\, află că aceasta îi este fiică. \nDISTRIBUŢIA: \nDon Tomao Nicomaco: Richard Balint\nLucia: Anca Sigmirean\nLuigi del Soro: Sebastian Lupu\nDrucilla: Corina Cernea\nLucrezio: Alexandru Rusu\nVictoriţa: Adela Lazăr\nGiovanni: Andrian Locovei\nDorina: Mihaela Gherdan/ Maria Teișanu\nAgnese: Ioana Dragoş Gajdo \nRegia artistică: Andrei Mihalache \nCoordonator muzical: Dorin Griguţă \nCoregrafia: Gabriela Tănase \nCostume: Amalia Judea \nData premierei: 15 aprilie 2011 \n? Biletele s-au pus în vânzare la Agenţia de Bilete a Teatrului de marți până vineri în intervalul orar 12:00 – 18:00și sâmbăta între orele 10:00 – 13:00. Puteţi achiziţiona bilete şi cu o oră înainte spectacol sau online pe www.biletmaster.ro. \nPentru informaţii suplimentare şi rezervări de bilete\, vă invităm să sunaţi la numărul de telefon: 0372/368.475. \nhttps://www.facebook.com/events/2290421711228764/ \n
URL:https://ghidlocal.com/oradea/eveniment/indragostitii-din-ancona-3/
LOCATION:Teatrul Regina Maria\, Teatrul Regina Maria
CATEGORIES:Teatru
ATTACH;FMTTYPE=image/jpeg:https://cdn.cluj.com/ghidlocalcom/sites/2/2019/04/I%CC%82ndra%CC%86gostit%CC%A6ii-din-Ancona-.jpg
END:VEVENT
END:VCALENDAR