BEGIN:VCALENDAR
VERSION:2.0
PRODID:-//Oradea - ECPv5.1.1//NONSGML v1.0//EN
CALSCALE:GREGORIAN
METHOD:PUBLISH
X-WR-CALNAME:Oradea
X-ORIGINAL-URL:https://ghidlocal.com/oradea
X-WR-CALDESC:Events for Oradea
BEGIN:VTIMEZONE
TZID:Europe/Bucharest
BEGIN:DAYLIGHT
TZOFFSETFROM:+0200
TZOFFSETTO:+0300
TZNAME:EEST
DTSTART:20160327T010000
END:DAYLIGHT
BEGIN:STANDARD
TZOFFSETFROM:+0300
TZOFFSETTO:+0200
TZNAME:EET
DTSTART:20161030T010000
END:STANDARD
END:VTIMEZONE
BEGIN:VEVENT
DTSTART;TZID=Europe/Bucharest:20161208T190000
DTEND;TZID=Europe/Bucharest:20161208T203000
DTSTAMP:20260423T060648
CREATED:20161205T081903Z
LAST-MODIFIED:20161205T082001Z
UID:5819-1481223600-1481229000@ghidlocal.com
SUMMARY:Impro Patzan Show 3.0
DESCRIPTION:În data de 8 decembrie\, joi\, începând cu ora 19:00\, Impro Patzan Show ne invită la un nou spectacol de improvizație – varianta 3.0!\nUn super show de improvizaţie la care râzi inteligent alături de Impro Patzan Show. Fiecare spectacol de improvizație este unic și irepetabil. Și bineînțeles\, cel mai fain show e ăla de la care ai lipsit… \nAcest spectacol este recomandat persoanelor cu simțul umorului. Pentru manifestări neplăcute\, vă rugăm să vă adresați barmanului. \nPentru mai multe informații și/sau rezervări\, sunați la 0771 438 892 – Mirabela. \nPartener: Kosher art wine coffee jazz \nSupport artist: 20 lei \nInformații preluate de AICI. \n
URL:https://ghidlocal.com/oradea/eveniment/impro-patzan-show-3-0-8-decembrie-2016/
LOCATION:Sediul STUDIO ACT\, Strada Crinului\, numărul 2\, Oradea\, Bihor\, 410074\, România
CATEGORIES:Divertisment
ATTACH;FMTTYPE=image/jpeg:https://cdn.cluj.com/ghidlocalcom/sites/2/2016/12/Impro_patzan_show_3.0_8_decembrie.jpg
ORGANIZER;CN="ImproPatzan%20Show":MAILTO:eugeen_io@yahoo.com
END:VEVENT
END:VCALENDAR