BEGIN:VCALENDAR
VERSION:2.0
PRODID:-//Oradea - ECPv5.1.1//NONSGML v1.0//EN
CALSCALE:GREGORIAN
METHOD:PUBLISH
X-WR-CALNAME:Oradea
X-ORIGINAL-URL:https://ghidlocal.com/oradea
X-WR-CALDESC:Events for Oradea
BEGIN:VTIMEZONE
TZID:Europe/Bucharest
BEGIN:DAYLIGHT
TZOFFSETFROM:+0200
TZOFFSETTO:+0300
TZNAME:EEST
DTSTART:20190331T010000
END:DAYLIGHT
BEGIN:STANDARD
TZOFFSETFROM:+0300
TZOFFSETTO:+0200
TZNAME:EET
DTSTART:20191027T010000
END:STANDARD
END:VTIMEZONE
BEGIN:VEVENT
DTSTART;TZID=Europe/Bucharest:20190307T190000
DTEND;TZID=Europe/Bucharest:20190307T210000
DTSTAMP:20260420T130926
CREATED:20190130T115434Z
LAST-MODIFIED:20190304T062841Z
UID:24490-1551985200-1551992400@ghidlocal.com
SUMMARY:Impro Patzan Show 100 - Spectacol aniversar
DESCRIPTION:Al 100-lea spectacol Impro Patzan Show la Sala Mare a Teatrului Regina Maria din Oradea \nUn super show de improvizaţie la care râzi inteligent!\nFiecare spectacol de improvizație este unic și irepetabil. Și bineînțeles\, cel mai fain show e ăla de la care ai lipsit… \nPatzanii: Alin Stanciu\, Eugen Neag\, Ioana Cheregi și Andrei Stan \nAcest spectacol este recomandat persoanelor cu simțul umorului! Pentru manifestări neplăcute\, vă rugăm să vă adresați autorității tutelare. \nBiletele se găsesc la Agentia Teatrului: \nLuni: ÎNCHIS\nMarți – Vineri: 12:00 – 18:00\nSâmbătă – Duminică: 10:00 – 13:00 \nTelefon: 0372/368.475 \nParteneri: Server Config SRL \nhttps://www.facebook.com/events/307866753200603/ \n
URL:https://ghidlocal.com/oradea/eveniment/impro-patzan-show-100-spectacol-aniversar/
LOCATION:Teatrul Regina Maria\, Teatrul Regina Maria
CATEGORIES:Teatru
ATTACH;FMTTYPE=image/jpeg:https://cdn.cluj.com/ghidlocalcom/sites/2/2019/01/Impro-Patzan-Show-100-Spectacol-aniversar.jpg
END:VEVENT
END:VCALENDAR