BEGIN:VCALENDAR
VERSION:2.0
PRODID:-//Oradea - ECPv5.1.1//NONSGML v1.0//EN
CALSCALE:GREGORIAN
METHOD:PUBLISH
X-WR-CALNAME:Oradea
X-ORIGINAL-URL:https://ghidlocal.com/oradea
X-WR-CALDESC:Events for Oradea
BEGIN:VTIMEZONE
TZID:Europe/Bucharest
BEGIN:DAYLIGHT
TZOFFSETFROM:+0200
TZOFFSETTO:+0300
TZNAME:EEST
DTSTART:20170326T010000
END:DAYLIGHT
BEGIN:STANDARD
TZOFFSETFROM:+0300
TZOFFSETTO:+0200
TZNAME:EET
DTSTART:20171029T010000
END:STANDARD
END:VTIMEZONE
BEGIN:VEVENT
DTSTART;TZID=Europe/Bucharest:20171201T100000
DTEND;TZID=Europe/Bucharest:20171214T220000
DTSTAMP:20260422T084533
CREATED:20171129T122615Z
LAST-MODIFIED:20171201T122618Z
UID:19200-1512122400-1513288800@ghidlocal.com
SUMMARY:Ia-ți cardul de fidelitate R&R și profită de avantaje exclusive!
DESCRIPTION:Vești extraordinare pentru clienții R&R! Librăria și cafeneaua R&R își răsplătește clienții fideli cu reduceri la cărți și la consumația de la cafenea cuprinse între 5% și 14 %\, plus numeroase oferte speciale și gratuități oferite în funcție de pragurile atinse de clienți. ?☕Cum? Prin intermediul cardului de fidelitate  pe care librarii noștri îl eliberează în cel mult 2 minute. În preajma sărbătorilor fiecare bănuț contează așa că nu ezita: solicită cardul de fildelitate R&R! ?? \nSuprizele nu se opresc aici! Posesorii de carduri de fidelitate vor beneficia și de oferte personalizate în funcție de preferințele lor în materie de carte și produse de cafenea.✨ \nMai multe detalii în Librăria și cafeneaua R&R de pe strada Republicii.  \nDupă emitere\, nu uitați să arătați cardul de fidelitate personalului la fiecare achiziție.  \n––––––––––––––––- \nReducerile și gratuitățile sunt următoarele (în funcție de praguri). Așadar\, între: \n100\,01 și 1.000 lei:\n5% reducere la orice achiziție (carte și bar); \n1.000\,01 și 2.000 lei:\n8% reducere la orice achiziție (carte și bar);\nun espresso gratuit de ziua ta de naștere; \n2.000\,01 și 4.000 lei:\n11% reducere la orice achiziție (carte și bar);\nun espresso gratuit de ziua ta de naștere; \nPeste 4.000 lei:\n14% reducere la orice achiziție (carte și bar);\nun espresso gratuit de ziua ta de naștere;\nanual\, primești o carte cadou de Ziua Mondială a Cărții și a Drepturilor de autor (23 aprilie); \nEmitentul cardului este S.C. EDITURA RATIO ET REVELATIO SRL\, care își rezervă dreptul de a întrerupe sau anula programul de fidelitate și de a retrage prezentul card. Acest card nu este un card de credit și nu poate fi utilizat ca mijloc de plată. Poate fi utilizat în conformitate cu regulamentul și condițiile impuse de emitent\, disponibile în localurile R&R.  \nClientul beneficiază de primul prag de reduceri din momentul în care strânge peste 100 lei în contul său virtual. În cazul schimbărilor de prag\, facilitățile se acordă începând cu următoarea achiziție. \n
URL:https://ghidlocal.com/oradea/eveniment/ia-ti-cardul-de-fidelitate-rr-si-profita-de-avantaje-exclusive/
LOCATION:R&R bookstores & coffee houses\, Oradea-Mare\, 410025\, RO
CATEGORIES:Cultural
ATTACH;FMTTYPE=image/jpeg:https://cdn.cluj.com/ghidlocalcom/sites/2/2017/11/19200_image_24210411_1574560322611593_20175492824063441_o.jpg
END:VEVENT
END:VCALENDAR