BEGIN:VCALENDAR
VERSION:2.0
PRODID:-//Oradea - ECPv5.1.1//NONSGML v1.0//EN
CALSCALE:GREGORIAN
METHOD:PUBLISH
X-WR-CALNAME:Oradea
X-ORIGINAL-URL:https://ghidlocal.com/oradea
X-WR-CALDESC:Events for Oradea
BEGIN:VTIMEZONE
TZID:Europe/Bucharest
BEGIN:DAYLIGHT
TZOFFSETFROM:+0200
TZOFFSETTO:+0300
TZNAME:EEST
DTSTART:20190331T010000
END:DAYLIGHT
BEGIN:STANDARD
TZOFFSETFROM:+0300
TZOFFSETTO:+0200
TZNAME:EET
DTSTART:20191027T010000
END:STANDARD
END:VTIMEZONE
BEGIN:VEVENT
DTSTART;TZID=Europe/Bucharest:20190203T120000
DTEND;TZID=Europe/Bucharest:20190203T150000
DTSTAMP:20260421T201347
CREATED:20190130T115430Z
LAST-MODIFIED:20190130T121942Z
UID:24466-1549195200-1549206000@ghidlocal.com
SUMMARY:Hai la cățărat!
DESCRIPTION:Vă invităm să participați la un nou eveniment marca Decathlon! \n✦ Când? » Duminică 3 Februarie \, ora: 14:00-17:00✦ Unde? » GeckoClimb str. Primăriei nr. 23\, Oradea✦ Ce facem în acea zi?  \n» Hai la cățărat împreună cu Decathlon Oradea și GeckoClimb!» Te așteptăm cu multă distracție\, energie și premii surpriză! » Espadrile de cățărat sau încălțăminte curată pentru sală este obligatorie. \n» Mulțumim partenerului nostru GeckoClimb. \nMai multe informații despre sala de escaladă găsiți pe https://www.geckoclimb.ro. \nhttps://www.facebook.com/events/2274373896173734/ \n
URL:https://ghidlocal.com/oradea/eveniment/hai-la-catarat/
LOCATION:GECKO – Climbing Gym\, Oradea\, RO\, GECKO - Climbing Gym\, Oradea\, RO
CATEGORIES:Sport
ATTACH;FMTTYPE=image/jpeg:https://cdn.cluj.com/ghidlocalcom/sites/2/2019/01/Hai-la-ca%CC%86t%CC%A6a%CC%86rat-.jpg
END:VEVENT
END:VCALENDAR