BEGIN:VCALENDAR
VERSION:2.0
PRODID:-//Oradea - ECPv5.1.1//NONSGML v1.0//EN
CALSCALE:GREGORIAN
METHOD:PUBLISH
X-WR-CALNAME:Oradea
X-ORIGINAL-URL:https://ghidlocal.com/oradea
X-WR-CALDESC:Events for Oradea
BEGIN:VTIMEZONE
TZID:Europe/Bucharest
BEGIN:DAYLIGHT
TZOFFSETFROM:+0200
TZOFFSETTO:+0300
TZNAME:EEST
DTSTART:20180325T010000
END:DAYLIGHT
BEGIN:STANDARD
TZOFFSETFROM:+0300
TZOFFSETTO:+0200
TZNAME:EET
DTSTART:20181028T010000
END:STANDARD
END:VTIMEZONE
BEGIN:VEVENT
DTSTART;TZID=Europe/Bucharest:20180818T120000
DTEND;TZID=Europe/Bucharest:20180818T200000
DTSTAMP:20260423T035204
CREATED:20180813T093217Z
LAST-MODIFIED:20180813T093217Z
UID:23169-1534593600-1534622400@ghidlocal.com
SUMMARY:Game Cup
DESCRIPTION:Game Cup\nTe declari un mare iubitor al celui mai cunoscut joc de fotbal pe consolă și îți place să concurezi cu ceilalți? Atunci avem o veste bună pentru tine! ?⚽ \nÎn data de 18 august\, în intervalul orar 12:00-20:00\, la #AushoppingOradea se va desfășura concursul #GameCup! \nÎnscrie-te și poți câștiga premii surprinzătoare! \nÎnscrierile se pot face la:\n? adresa de e-mail info@malio.eu cu numele\, prenumele\, numărul de telefon și adresa de e-mail\n? prin sms la numărul de telefon 0757 261 817 cu numele\, prenumele\, numărul de telefon și adresa de e-mail\n? la fața locului în data de 18 august\, de la ora 9:00 la 11:00 \nNumărul maxim de participanți – 120 de persoane\nÎnscrierile din online (respectiv pe adrese de e-mail și telefon) se pot face cel târziu până vineri până la ora 17:00.\nParticiparea este gratuită! \n
URL:https://ghidlocal.com/oradea/eveniment/game-cup/
LOCATION:Aushopping Romania (Oradea)
CATEGORIES:Activitati pentru copii
ATTACH;FMTTYPE=image/jpeg:https://cdn.cluj.com/ghidlocalcom/sites/2/2018/08/Game-Cup.jpg
END:VEVENT
END:VCALENDAR