BEGIN:VCALENDAR
VERSION:2.0
PRODID:-//Oradea - ECPv5.1.1//NONSGML v1.0//EN
CALSCALE:GREGORIAN
METHOD:PUBLISH
X-WR-CALNAME:Oradea
X-ORIGINAL-URL:https://ghidlocal.com/oradea
X-WR-CALDESC:Events for Oradea
BEGIN:VTIMEZONE
TZID:Europe/Bucharest
BEGIN:DAYLIGHT
TZOFFSETFROM:+0200
TZOFFSETTO:+0300
TZNAME:EEST
DTSTART:20190331T010000
END:DAYLIGHT
BEGIN:STANDARD
TZOFFSETFROM:+0300
TZOFFSETTO:+0200
TZNAME:EET
DTSTART:20191027T010000
END:STANDARD
END:VTIMEZONE
BEGIN:VEVENT
DTSTART;TZID=Europe/Bucharest:20190207T170000
DTEND;TZID=Europe/Bucharest:20190207T190000
DTSTAMP:20260421T074856
CREATED:20190124T140500Z
LAST-MODIFIED:20190130T121810Z
UID:24392-1549558800-1549566000@ghidlocal.com
SUMMARY:Fuckup Nights // Oradea // Vol. I
DESCRIPTION:Din 7 februarie\, Oradea se alătură familiei globale Fuckup Nights.  \nMișcarea Fuckup Nights a început în 2012 în Mexico City\, când un grup de prieteni s-au adunat si au început să povestească despre nereușitele lor. În prezent\, Fuckup Nights este o mișcare internațională care se desfășoară lunar în peste 100 de orașe din întreaga lume.  \nFie că este vorba de un start-up\, de o afacere\, de un proiect de dezvoltare\, artă\, cultură\, arhitectură\, medicină\, sport\, tehnologie\, sau orice altceva\, din experiența eșecului se pot învăța foarte multe. \nÎn cadrul primei ediții F.U.N. vom experimenta și explora subiectul antreprenoriatului. Discuțiile vor fi în română\, însă la cerere putem oferi traducere.  \nParticiparea este liberă\, dar înscrierea obligatorie:http://www.123formbuilder.com/form-4543952/online-order-form \n– \nFrom 7th of February\, Oradea will join the Fuckup Nights global family.  \nThe Fuckup Nights movement started in 2012\, in Mexico City\, when a group of friends met up and started to share their failures. Nowadays\, Fuckup Nights is an international movement which is organised in over 100 cities around the world. \nWhether we talk about a startup\, a business\, a project in development\, art\, culture\, architecture\, medicine\, sport\, technology or any other field\, we have a lot to learn from failure.  \nDuring our first F.U.N. meeting we will explore the entrepreneurial subject.  \nThe talks will be in Romanian\, but if translation is needed do let us know by sending us a message via facebook or at registration@violetevents.ro \nAttendance is free but registration is mandatory: http://www.123formbuilder.com/form-4543952/online-order-form \nhttps://www.facebook.com/events/1969805939741896/ \n
URL:https://ghidlocal.com/oradea/eveniment/fuckup-nights-oradea-vol-i/
LOCATION:Cetatea Oradea\, Cetatea Oradea
CATEGORIES:Educatie
ATTACH;FMTTYPE=image/jpeg:https://cdn.cluj.com/ghidlocalcom/sites/2/2019/01/Fuckup-Nights-Oradea-Vol.-I-.jpg
END:VEVENT
END:VCALENDAR