BEGIN:VCALENDAR
VERSION:2.0
PRODID:-//Oradea - ECPv5.1.1//NONSGML v1.0//EN
CALSCALE:GREGORIAN
METHOD:PUBLISH
X-WR-CALNAME:Oradea
X-ORIGINAL-URL:https://ghidlocal.com/oradea
X-WR-CALDESC:Events for Oradea
BEGIN:VTIMEZONE
TZID:Europe/Bucharest
BEGIN:DAYLIGHT
TZOFFSETFROM:+0200
TZOFFSETTO:+0300
TZNAME:EEST
DTSTART:20190331T010000
END:DAYLIGHT
BEGIN:STANDARD
TZOFFSETFROM:+0300
TZOFFSETTO:+0200
TZNAME:EET
DTSTART:20191027T010000
END:STANDARD
END:VTIMEZONE
BEGIN:VEVENT
DTSTART;TZID=Europe/Bucharest:20190502T140000
DTEND;TZID=Europe/Bucharest:20190502T170000
DTSTAMP:20260424T214630
CREATED:20190520T104226Z
LAST-MODIFIED:20190520T104226Z
UID:25493-1556805600-1556816400@ghidlocal.com
SUMMARY:Frank Wedekind: A tavasz ébredése | HolnapUtán Fesztivál
DESCRIPTION:A VII. HolnapUtán Fesztivál programjábanA Harag György Társulat vendégjátéka?Nagytermi stúdióelőadás \nWedekind gyermektragédiájában minden szereplő mintha előre tudná a sorsát\, mintha ők maguk irányítanák életüket és saját akaratukból járnák be azt az utat\, ami nekik ki lett jelölve. Előrevetítik saját negatív előjelű sorsukat\, mégsem dolgoznak ellene\, hanem haladnak az úton előre. A szereplők hétköznapi hősök\, akik már elvesztek vagy veszendőben vannak zűrzavaros élet-ösvényeken\, tapasztalni\, érezni és érteni vágyó fiatalok\, akiket nem hallgat meg senki. Ezek a kamaszok reménykednek\, vágyakoznak\, kutatnak\, felfedeznek\, felismernek\, de hiába kérnek segítséget\, magukra maradnak az őszinteségükkel. E lázadó fiatalok a saját értékrendjük tükrében cselekednek\, a társadalmi normáknak pedig nem tudnak megfelelni. Milyen is ez a társadalmi rend? Mit adhat a család\, mint rendszer\, mi az egészséges kontrol a gyerekre nézve? Hogyan hat a fiatalokra a merev oktatási rendszer? Mit ad és ezzel egy időben mit vesz el? \nA szereplők mindannyian saját boldogságuk keresése közben ütköznek falakba egy torz társadalmi rend keretei között\, melyben kőkemény szabályok és normák lehetetlenítik el a tudásvágyat\, a tettvágyat\, a fejlődést és egyáltalán a testtel\, a szexualitással kapcsolatos viszonyaikat. Romlott családokat\, boldogtalan\, kiutat nem találó\, megrekedt gyerekek játékát látjuk. Az előadásban a testiség és fizikalitás az emberi viszonyokra erősít rá\, egy olyan nyelvezetet keres\, ahol a képekben való fogalmazás és az előadók testi jelenideje – ezáltal a karakterek jelenideje – kerül előtérbe. Fizikai színház ez\, mely nyelvezetében egyaránt épít a verbalitásra és a test nonverbális erejére\, a két kifejező mód fúziójából létrehozva valami újszerűt. \nJátsszák: Bogár Barbara\, Budizsa Evelyn\, Frumen Gergő\, Gál Ágnes\, Gedő Zsolt m.v.\, Laczkó Tekla\, Moldován Blanka\, Orbán Zsolt\, Poszet Nándor	 \nRendező-koreográfus: Györfi CsabaDíszlet- és jelmeztervező: Cs. Kiss ZsuzsannaDramaturg: Czvikker KatalinZenei montázs: Moldován BlankaKoreográfus: Tőkés Imola \nhttps://www.facebook.com/events/281602159400720/ \n
URL:https://ghidlocal.com/oradea/eveniment/frank-wedekind-a-tavasz-ebredese-holnaputan-fesztival/
LOCATION:Szigligeti Színház Nagyvárad\, Szigligeti Színház Nagyvárad
END:VEVENT
END:VCALENDAR