BEGIN:VCALENDAR
VERSION:2.0
PRODID:-//Oradea - ECPv5.1.1//NONSGML v1.0//EN
CALSCALE:GREGORIAN
METHOD:PUBLISH
X-WR-CALNAME:Oradea
X-ORIGINAL-URL:https://ghidlocal.com/oradea
X-WR-CALDESC:Events for Oradea
BEGIN:VTIMEZONE
TZID:Europe/Bucharest
BEGIN:DAYLIGHT
TZOFFSETFROM:+0200
TZOFFSETTO:+0300
TZNAME:EEST
DTSTART:20190331T010000
END:DAYLIGHT
BEGIN:STANDARD
TZOFFSETFROM:+0300
TZOFFSETTO:+0200
TZNAME:EET
DTSTART:20191027T010000
END:STANDARD
END:VTIMEZONE
BEGIN:VEVENT
DTSTART;TZID=Europe/Bucharest:20190406T190000
DTEND;TZID=Europe/Bucharest:20190406T210000
DTSTAMP:20260423T195950
CREATED:20190217T173352Z
LAST-MODIFIED:20190318T072651Z
UID:24633-1554577200-1554584400@ghidlocal.com
SUMMARY:Folk de colecție - Șeicaru\, Bertzi și Socaciu în Oradea
DESCRIPTION:Trei celebri cantautori\, dintre cei care au scris alfabetul muzicii folk\, vă invită ”La un ceai” într-o ”Noapte fară anotimp” să va ofere o ”Floare de colț”. ”Și de-ar fi” \, la un ”Ceas fără timp” ”Între om și cer” ”Oameni de zapadă” cu ”Suflet fără chei” vor aștepta ”Antiprimăvara”.\nSâmbătă\, 6 aprilie 2019 ora 19 la Filarmonica de Stat Oradea / Nagyváradi Állami Filharmónia va avea loc spectacolul Folk de colecție – Vasile Seicaru\, Ducu Bertzi Alexandru și Victor Socaciu.\nBiletele se pot procura la casieria Filarmonicii de Stat Oradea sau online la: https://bit.ly/2THFyEJ\nPreț bilet: 50 – 70 lei \nhttps://www.facebook.com/events/345115553006260/ \n
URL:https://ghidlocal.com/oradea/eveniment/folk-de-colectie-seicaru-bertzi-si-socaciu-in-oradea/
LOCATION:Filarmonica de Stat Oradea\, Filarmonica de Stat Oradea
CATEGORIES:Concerte
ATTACH;FMTTYPE=image/jpeg:https://cdn.cluj.com/ghidlocalcom/sites/2/2019/02/Folk-de-colect%CC%A6ie-S%CC%A6eicaru-Bertzi-s%CC%A6i-Socaciu-i%CC%82n-Oradea-.jpg
END:VEVENT
END:VCALENDAR