BEGIN:VCALENDAR
VERSION:2.0
PRODID:-//Oradea - ECPv5.1.1//NONSGML v1.0//EN
CALSCALE:GREGORIAN
METHOD:PUBLISH
X-WR-CALNAME:Oradea
X-ORIGINAL-URL:https://ghidlocal.com/oradea
X-WR-CALDESC:Events for Oradea
BEGIN:VTIMEZONE
TZID:Europe/Bucharest
BEGIN:DAYLIGHT
TZOFFSETFROM:+0200
TZOFFSETTO:+0300
TZNAME:EEST
DTSTART:20180325T010000
END:DAYLIGHT
BEGIN:STANDARD
TZOFFSETFROM:+0300
TZOFFSETTO:+0200
TZNAME:EET
DTSTART:20181028T010000
END:STANDARD
END:VTIMEZONE
BEGIN:VEVENT
DTSTART;TZID=Europe/Bucharest:20180208T200000
DTEND;TZID=Europe/Bucharest:20180208T220000
DTSTAMP:20260420T071749
CREATED:20180108T122732Z
LAST-MODIFIED:20180208T122830Z
UID:20035-1518120000-1518127200@ghidlocal.com
SUMMARY:Finucci Bros "Jazz Combo" @Moszkva&Szigligeti Stúdió
DESCRIPTION:RO:\nFinucci Bros Quartet este o trupa care exista din 2009 sub conducerea lui Roland Balogh. Trupa are 4 căntăreți care si-au demonstrat talentul în numeroase concursuri. Au lansat 4 albume mari iar în ultimul an au avut și turnee numeroase în mai multe tari printre care se numără și USA.\nFinucci Bros Quartet:\n-Chitarist Balogh Roland\, câștigătorul concursului de muzica jazz în Montreux și prezent în top 5 cei mai buni chitariști ai anului 2015 în New York.\n-Zongora Balogh Zoltán\, participant la concursul de pian din Montreux.\n– Horváth Plútó József este chitaristul bas\, câștigătorul concursului de bas al Radioului Maghiar.\n-Dob Bordás József este membru al uniunii de Jazz din Ungaria. -Havas Lajos Chico artis- cântăreț \, premiant al Artisjus. \n\nEN:\nThe founders of the band are the Junior Prima prize awarded Roland Balogh \,who won the Montreux Jazz Guitar Competition in 2009 and his twin brother Zoltan Balogh who won the 2nd place on the Jacksonville Jazz Piano Competition in 2017. \nMusic Style\nThe band founded in 2008. The band plays the classical jazz\, groove music\, fusion\,hungarian and the hungarian gipsy folk music style characterize the style of the band. \nAwards and Discography\nThe quartet won the second place in the Hungarian competition „Jazz Combo” in 2008.In September of 2010 they recorded his first album Twins Effect with the Gramy Records and In 2011 recorded the new album „Sounds for the future”. He played on this album old hungarian folk songs with jazz arrangements. In 2012 the Finucci Bros Quartet won the 1st place on the Jazzy Radio’s song writing competition. After in 2013 he recorded his third album „Kesz Regeny”. They played own pop melodies in jazz arrangements. In 2017 the Band recorded a new album „I stand at the door” with the Indaba Music in New York. \nConcerts and Tours\nThey had a tour in 2017 in the USA: They played at the Club Bonifade and the Bar Next Door in Manhattan\, Hungarian Cultural Alliance in Los Angeles\, Dizzy’s Jazz Club in San Diego\, Tarzana Hungarian Grace Church in Los Angeles.\nSome of them have played at the Montreux Jazz Festival before the Paco de Lucia Band\, at the 606 Jazz Club(London)\, at the San Benedetto Jazz Festival(Italy)\, at Santa Monica(Los Angeles)\, at the A-Train Jazz Club(Berlin) and more famous Jazz Clubs and\nFestivals. \nMembers:\nJunior Prima prize award\, Montreux Jazz guitar competition winner\, Voice&Guitar competition winner\, Hungarian Jazz combo competition 2nd prize\, Ablakos Lakatos Dezso scholarship award\, In 2015 2nd prize winner on the Wes Montgomery Jazz Guitar Competition at New York. 1st place Six Strings Theory Jazz Guitar Competition Los Angeles In 2016.)\nThe Montreux Jazz Piano competition 3rd place 2010 where Yaron Herman was the president of jury\, Hungarian Jazz combo competition 2nd prize\, Ablakos Lakatos Dezso scholarship award\, In 2017 2nd prize winner on the Jacksonville Jazz Piano Competition at Florida.) \nInternational Hungarian Jazz Bass competition winner 2003 where John Pattituci was the president of jury\nJozsef Bordas – Drums\n(Member of the Hungarian Jazz Federation. He has an own drum school\, he thought from the famous hungarian drummer\, Vilmos Javori)\nSupport: 30 lei \nHU:\nA Finucci Bros Quartet 2009-ben jött létre Balogh Roland vezetésével. A zenekar négy kiemelkedő muzsikusból áll akik számos versenyen bizonyították tehetségüket.\nNégy nagylemezük jelent meg és 2013 óta turnéznak Erdélyben. Az elmúlt egy évben két alkalommal turnéztak az USA-ban és 2017. októberében írták alá New Yorkban egy amerikai lemezkiadó vállalattal\naz amerikai lemezszerződésüket és rögzítették lgújabb hanglemezüket. Az új Finucci Bros lemezen Havas Lajos Arisjus-díjas ének-művész is közreműködik\, így a 2018-as turnén már 5 fővel  plusz technikai személyzettel turnéznak.  A 2018-as év az USA lemez bemutatásával fog zajlani szerte a világban többek között Erdélyben is.  \nFinucci Bros Quartet:\n– Gitár  Balogh Roland a Montreux-i Jazz Gitár verseny  nyertes\,  Príma-díjas művész\, 2015-ben a világ 5 legjobb fiatal gitárosa közé választották New York-ban\n-Zongora Balogh Zoltán  Montreux-i Jazz Zongora verseny 2. helyezettje Filharmónia Állami ösztöndíjasa\n-Basszusgitár Horváth Plútó József  a Magyar Rádió Jazz-basszusgitár versenyének nyertese\n-Dob Bordás József a Magyar Jazz Szövetség elnökségi tagja\n– Havas Lajos Chico\, Artisjus-díjas ének-művész \nYoutube: https://youtu.be/jQop6OJUKJg\nFacebook: https://www.facebook.com/Finucci-Bros-Quartet-160932373952004/?fref=ts \nKoncert helyszin: Szigligeti Studió\nBelépő: 30 lej \n
URL:https://ghidlocal.com/oradea/eveniment/finucci-bros-moszkvaszigligeti-studio/
LOCATION:Szigligeti Studio\, Oradea\, RO
CATEGORIES:Concerte
ATTACH;FMTTYPE=image/jpeg:https://cdn.cluj.com/ghidlocalcom/sites/2/2018/01/20035_image_27024062_1594895323913187_248159676071684311_o.jpg
END:VEVENT
END:VCALENDAR